BEGIN:VCALENDAR
VERSION:2.0
PRODID:-//Kenya Ladies Golf Union - ECPv6.6.4.2//NONSGML v1.0//EN
CALSCALE:GREGORIAN
METHOD:PUBLISH
X-WR-CALNAME:Kenya Ladies Golf Union
X-ORIGINAL-URL:https://klgu.org
X-WR-CALDESC:Events for Kenya Ladies Golf Union
REFRESH-INTERVAL;VALUE=DURATION:PT1H
X-Robots-Tag:noindex
X-PUBLISHED-TTL:PT1H
BEGIN:VTIMEZONE

END:VTIMEZONE
BEGIN:VEVENT
DTSTART;TZID=UTC:20240225T090000
DTEND;TZID=UTC:20240225T170000
DTSTAMP:20260425T050336
CREATED:20240709T144139Z
LAST-MODIFIED:20260112T055850Z
UID:1853-1708851600-1708880400@klgu.org
SUMMARY:Magical Kenya Open
DESCRIPTION:Magical Kenya Open
URL:https://klgu.org/event/magical-kenya-open-4/
CATEGORIES:Golf
END:VEVENT
BEGIN:VEVENT
DTSTART;TZID=UTC:20240224T090000
DTEND;TZID=UTC:20240224T170000
DTSTAMP:20260425T050336
CREATED:20240709T144138Z
LAST-MODIFIED:20260112T055846Z
UID:1852-1708765200-1708794000@klgu.org
SUMMARY:Magical Kenya Open
DESCRIPTION:Magical Kenya Open
URL:https://klgu.org/event/magical-kenya-open-3/
CATEGORIES:Golf
END:VEVENT
BEGIN:VEVENT
DTSTART;TZID=UTC:20240223T090000
DTEND;TZID=UTC:20240223T170000
DTSTAMP:20260425T050336
CREATED:20240709T144123Z
LAST-MODIFIED:20260112T055839Z
UID:1846-1708678800-1708707600@klgu.org
SUMMARY:Magical Kenya Open
DESCRIPTION:Magical Kenya Open
URL:https://klgu.org/event/magical-kenya-open-2/
CATEGORIES:Golf
END:VEVENT
BEGIN:VEVENT
DTSTART;TZID=UTC:20240222T090000
DTEND;TZID=UTC:20240222T170000
DTSTAMP:20260425T050336
CREATED:20240709T144123Z
LAST-MODIFIED:20260112T055835Z
UID:1845-1708592400-1708621200@klgu.org
SUMMARY:Magical Kenya Open
DESCRIPTION:Magical Kenya Open
URL:https://klgu.org/event/magical-kenya-open/
CATEGORIES:Golf
END:VEVENT
BEGIN:VEVENT
DTSTART;TZID=UTC:20240219T090000
DTEND;TZID=UTC:20240219T170000
DTSTAMP:20260425T050336
CREATED:20240709T144123Z
LAST-MODIFIED:20260112T055831Z
UID:1844-1708333200-1708362000@klgu.org
SUMMARY:KLGU Meeting
DESCRIPTION:KLGU Meeting
URL:https://klgu.org/event/klgu-meeting-2/
CATEGORIES:Golf
END:VEVENT
BEGIN:VEVENT
DTSTART;TZID=UTC:20240211T090000
DTEND;TZID=UTC:20240211T170000
DTSTAMP:20260425T050336
CREATED:20240709T144123Z
LAST-MODIFIED:20260112T055827Z
UID:1843-1707642000-1707670800@klgu.org
SUMMARY:Magical Kenya Ladies Open
DESCRIPTION:Magical Kenya Ladies Open
URL:https://klgu.org/event/magical-kenya-ladies-open-3/
CATEGORIES:Golf
END:VEVENT
BEGIN:VEVENT
DTSTART;TZID=UTC:20240210T090000
DTEND;TZID=UTC:20240210T170000
DTSTAMP:20260425T050336
CREATED:20240709T144123Z
LAST-MODIFIED:20260112T055824Z
UID:1842-1707555600-1707584400@klgu.org
SUMMARY:Magical Kenya Ladies Open
DESCRIPTION:Magical Kenya Ladies Open
URL:https://klgu.org/event/magical-kenya-ladies-open-2/
CATEGORIES:Golf
END:VEVENT
BEGIN:VEVENT
DTSTART;TZID=UTC:20240209T090000
DTEND;TZID=UTC:20240209T170000
DTSTAMP:20260425T050336
CREATED:20240709T144121Z
LAST-MODIFIED:20260112T055819Z
UID:1841-1707469200-1707498000@klgu.org
SUMMARY:Magical Kenya Ladies Open
DESCRIPTION:Magical Kenya Ladies Open
URL:https://klgu.org/event/magical-kenya-ladies-open/
CATEGORIES:Golf
END:VEVENT
BEGIN:VEVENT
DTSTART;TZID=UTC:20240204T090000
DTEND;TZID=UTC:20240204T170000
DTSTAMP:20260425T050336
CREATED:20240709T144121Z
LAST-MODIFIED:20260112T055811Z
UID:1840-1707037200-1707066000@klgu.org
SUMMARY:Vipingo Ladies Open
DESCRIPTION:Vipingo Ladies Open
URL:https://klgu.org/event/vipingo-ladies-open/
CATEGORIES:Golf
END:VEVENT
BEGIN:VEVENT
DTSTART;TZID=UTC:20240203T090000
DTEND;TZID=UTC:20240203T170000
DTSTAMP:20260425T050336
CREATED:20240709T144121Z
LAST-MODIFIED:20260112T055806Z
UID:1839-1706950800-1706979600@klgu.org
SUMMARY:KLGU Chairman's Prize
DESCRIPTION:KLGU Chairman’s Prize
URL:https://klgu.org/event/klgu-chairmans-prize/
CATEGORIES:Golf
END:VEVENT
BEGIN:VEVENT
DTSTART;TZID=UTC:20240202T090000
DTEND;TZID=UTC:20240202T170000
DTSTAMP:20260425T050336
CREATED:20240709T144121Z
LAST-MODIFIED:20260112T055802Z
UID:1838-1706864400-1706893200@klgu.org
SUMMARY:KLGU AGM
DESCRIPTION:KLGU AGM
URL:https://klgu.org/event/klgu-agm/
CATEGORIES:Golf
END:VEVENT
BEGIN:VEVENT
DTSTART;TZID=UTC:20240108T090000
DTEND;TZID=UTC:20240108T170000
DTSTAMP:20260425T050336
CREATED:20240709T144121Z
LAST-MODIFIED:20260112T055757Z
UID:1837-1704704400-1704733200@klgu.org
SUMMARY:KLGU Meeting
DESCRIPTION:KLGU Meeting
URL:https://klgu.org/event/klgu-meeting/
CATEGORIES:Golf
END:VEVENT
BEGIN:VEVENT
DTSTART;TZID=UTC:20230109T080000
DTEND;TZID=UTC:20230109T170000
DTSTAMP:20260425T050336
CREATED:20221011T150651Z
LAST-MODIFIED:20260112T055753Z
UID:1763-1673251200-1673283600@klgu.org
SUMMARY:KLGU MEETING  (Zoom) Jan 9th 2023
DESCRIPTION:9th Jan 2023 (Monday) KLGU MEETING via Zoom 
URL:https://klgu.org/event/klgu-meeting-zoom-jan-9th-2023/
LOCATION:Zoom (Online)
CATEGORIES:Golf
END:VEVENT
BEGIN:VEVENT
DTSTART;VALUE=DATE:20220529
DTEND;VALUE=DATE:20220530
DTSTAMP:20260425T050336
CREATED:20220519T175201Z
LAST-MODIFIED:20260112T055749Z
UID:1653-1653782400-1653868799@klgu.org
SUMMARY:NYAHURURU LADIES OPEN
DESCRIPTION:
URL:https://klgu.org/event/nyahururu-ladies-open/
LOCATION:NYAHURURU GOLF CLUB\, Kenya
CATEGORIES:Golf
END:VEVENT
BEGIN:VEVENT
DTSTART;VALUE=DATE:20220522
DTEND;VALUE=DATE:20220523
DTSTAMP:20260425T050336
CREATED:20220519T173454Z
LAST-MODIFIED:20260112T055740Z
UID:1651-1653177600-1653263999@klgu.org
SUMMARY:RNGC | FRANCOMBE | MATCH 7
DESCRIPTION:
URL:https://klgu.org/event/rngc-francombe-match-7/
CATEGORIES:Golf
END:VEVENT
BEGIN:VEVENT
DTSTART;TZID=Europe/Moscow:20220128T080000
DTEND;TZID=Europe/Moscow:20220128T170000
DTSTAMP:20260425T050336
CREATED:20211218T050013Z
LAST-MODIFIED:20260112T055735Z
UID:1594-1643356800-1643389200@klgu.org
SUMMARY:KLGU AGM @ Royal Nairobi Golf Club  28 January 2022
DESCRIPTION:
URL:https://klgu.org/event/agm/
LOCATION:Royal Nairobi Golf Club\, Nairobi
CATEGORIES:Golf
END:VEVENT
BEGIN:VEVENT
DTSTART;VALUE=DATE:20220128
DTEND;VALUE=DATE:20220130
DTSTAMP:20260425T050336
CREATED:20211004T140136Z
LAST-MODIFIED:20260112T055731Z
UID:1282-1643328000-1643500799@klgu.org
SUMMARY:Eileen Belcher Tournament 28th & 29th January
DESCRIPTION:
URL:https://klgu.org/event/eileenevent/
LOCATION:Muthigia Golf Club\, Nairobi\, Kenya
CATEGORIES:Golf
END:VEVENT
BEGIN:VEVENT
DTSTART;TZID=Europe/Moscow:20211217T080000
DTEND;TZID=Europe/Moscow:20211217T170000
DTSTAMP:20260425T050336
CREATED:20260112T055721Z
LAST-MODIFIED:20260112T055721Z
UID:1572-1639728000-1639760400@klgu.org
SUMMARY:KLGU 36 Holes Stroke Play Championship Round @ Muthaiga Golf Club 17 December 2021
DESCRIPTION:
URL:https://klgu.org/event/klgu-36-holes-stroke-play-championship-round-muthaiga-golf-club-17-december-2021/
LOCATION:Muthigia Golf Club\, Nairobi\, Kenya
CATEGORIES:Golf
END:VEVENT
BEGIN:VEVENT
DTSTART;TZID=UTC:20260425T050336
DTEND;TZID=UTC:20260425T050336
DTSTAMP:20260425T050336
CREATED:20240709T144430Z
LAST-MODIFIED:20260112T055716Z
UID:1912-0-0@klgu.org
SUMMARY:KLGU AGM/Chairman's Prize
DESCRIPTION:KLGU AGM/Chairman’s Prize
URL:https://klgu.org/event/klgu-agm-chairmans-prize/
CATEGORIES:Golf
END:VEVENT
BEGIN:VEVENT
DTSTART;TZID=Europe/Moscow:20260425T050336
DTEND;TZID=Europe/Moscow:20260425T050336
DTSTAMP:20260425T050336
CREATED:20240709T144426Z
LAST-MODIFIED:20260112T055715Z
UID:1909-0-0@klgu.org
SUMMARY:KLGU MEETING
DESCRIPTION:KLGU Meeting
URL:https://klgu.org/event/klgu-meeting-5/
CATEGORIES:Golf
END:VEVENT
BEGIN:VEVENT
DTSTART;TZID=Europe/Moscow:20260425T050336
DTEND;TZID=Europe/Moscow:20260425T050336
DTSTAMP:20260425T050336
CREATED:20240709T144426Z
LAST-MODIFIED:20260112T054037Z
UID:1910-0-0@klgu.org
SUMMARY:SIGONA LADIES OPEN (GOTY)
DESCRIPTION:Sigona Ladies Open (GOTY)
URL:https://klgu.org/event/sigona-ladies-open-goty-2/
CATEGORIES:Golf
END:VEVENT
BEGIN:VEVENT
DTSTART;TZID=Europe/Moscow:20260425T050336
DTEND;TZID=Europe/Moscow:20260425T050336
DTSTAMP:20260425T050336
CREATED:20240709T144426Z
LAST-MODIFIED:20260112T055753Z
UID:1911-0-0@klgu.org
SUMMARY:KLGU AGM
DESCRIPTION:KLGU AGM
URL:https://klgu.org/event/klgu-agm-2/
CATEGORIES:Golf
END:VEVENT
END:VCALENDAR