BEGIN:VCALENDAR
VERSION:2.0
PRODID:-//Kenya Ladies Golf Union - ECPv6.6.4.2//NONSGML v1.0//EN
CALSCALE:GREGORIAN
METHOD:PUBLISH
X-WR-CALNAME:Kenya Ladies Golf Union
X-ORIGINAL-URL:https://klgu.org
X-WR-CALDESC:Events for Kenya Ladies Golf Union
REFRESH-INTERVAL;VALUE=DURATION:PT1H
X-Robots-Tag:noindex
X-PUBLISHED-TTL:PT1H
BEGIN:VTIMEZONE
TZID:UTC
BEGIN:STANDARD
TZOFFSETFROM:+0000
TZOFFSETTO:+0000
TZNAME:UTC
DTSTART:20240101T000000
END:STANDARD
END:VTIMEZONE
BEGIN:VEVENT
DTSTART;TZID=UTC:20240930T090000
DTEND;TZID=UTC:20240930T170000
DTSTAMP:20260425T040909
CREATED:20240709T144408Z
LAST-MODIFIED:20260112T060223Z
UID:1897-1727686800-1727715600@klgu.org
SUMMARY:KLGU/LC Meeting
DESCRIPTION:KLGU/LC Meeting
URL:https://klgu.org/event/klgu-lc-meeting-2/
CATEGORIES:Golf
END:VEVENT
BEGIN:VEVENT
DTSTART;TZID=UTC:20240915T090000
DTEND;TZID=UTC:20240915T170000
DTSTAMP:20260425T040909
CREATED:20240709T144358Z
LAST-MODIFIED:20260112T060218Z
UID:1896-1726390800-1726419600@klgu.org
SUMMARY:Golf Park Ladies Open
DESCRIPTION:Golf Park Ladies Open
URL:https://klgu.org/event/golf-park-ladies-open/
CATEGORIES:Golf
END:VEVENT
BEGIN:VEVENT
DTSTART;TZID=UTC:20240908T090000
DTEND;TZID=UTC:20240908T170000
DTSTAMP:20260425T040909
CREATED:20240709T144358Z
LAST-MODIFIED:20260112T060213Z
UID:1895-1725786000-1725814800@klgu.org
SUMMARY:Eileen Belcher Trophy
DESCRIPTION:Eileen Belcher Trophy
URL:https://klgu.org/event/eileen-belcher-trophy-2/
CATEGORIES:Golf
END:VEVENT
BEGIN:VEVENT
DTSTART;TZID=UTC:20240907T090000
DTEND;TZID=UTC:20240907T170000
DTSTAMP:20260425T040909
CREATED:20240709T144358Z
LAST-MODIFIED:20260112T060209Z
UID:1894-1725699600-1725728400@klgu.org
SUMMARY:Eileen Belcher Trophy
DESCRIPTION:Eileen Belcher Trophy
URL:https://klgu.org/event/eileen-belcher-trophy/
CATEGORIES:Golf
END:VEVENT
BEGIN:VEVENT
DTSTART;TZID=UTC:20240825T090000
DTEND;TZID=UTC:20240825T170000
DTSTAMP:20260425T040909
CREATED:20240709T144358Z
LAST-MODIFIED:20260112T060204Z
UID:1893-1724576400-1724605200@klgu.org
SUMMARY:KLO M/P Championship - (GOTY)
DESCRIPTION:KLO M/P Championship – (GOTY)
URL:https://klgu.org/event/klo-m-p-championship-goty-6/
CATEGORIES:Golf
END:VEVENT
BEGIN:VEVENT
DTSTART;TZID=UTC:20240824T090000
DTEND;TZID=UTC:20240824T170000
DTSTAMP:20260425T040909
CREATED:20240709T144358Z
LAST-MODIFIED:20260112T060200Z
UID:1892-1724490000-1724518800@klgu.org
SUMMARY:KLO M/P Championship - (GOTY)
DESCRIPTION:KLO M/P Championship – (GOTY)
URL:https://klgu.org/event/klo-m-p-championship-goty-5/
CATEGORIES:Golf
END:VEVENT
BEGIN:VEVENT
DTSTART;TZID=UTC:20240823T090000
DTEND;TZID=UTC:20240823T170000
DTSTAMP:20260425T040909
CREATED:20240709T144342Z
LAST-MODIFIED:20260112T060156Z
UID:1891-1724403600-1724432400@klgu.org
SUMMARY:KLO M/P Championship - (GOTY)
DESCRIPTION:KLO M/P Championship – (GOTY)
URL:https://klgu.org/event/klo-m-p-championship-goty-4/
CATEGORIES:Golf
END:VEVENT
BEGIN:VEVENT
DTSTART;TZID=UTC:20240819T090000
DTEND;TZID=UTC:20240819T170000
DTSTAMP:20260425T040909
CREATED:20240709T144341Z
LAST-MODIFIED:20260112T060151Z
UID:1890-1724058000-1724086800@klgu.org
SUMMARY:KLGU Meeting
DESCRIPTION:KLGU Meeting
URL:https://klgu.org/event/klgu-meeting-3/
CATEGORIES:Golf
END:VEVENT
BEGIN:VEVENT
DTSTART;TZID=UTC:20240817T090000
DTEND;TZID=UTC:20240817T170000
DTSTAMP:20260425T040909
CREATED:20240709T144341Z
LAST-MODIFIED:20260112T060146Z
UID:1889-1723885200-1723914000@klgu.org
SUMMARY:Nyali Mixed Foursomes
DESCRIPTION:Nyali Mixed Foursomes
URL:https://klgu.org/event/nyali-mixed-foursomes/
CATEGORIES:Golf
END:VEVENT
BEGIN:VEVENT
DTSTART;TZID=UTC:20240811T090000
DTEND;TZID=UTC:20240811T170000
DTSTAMP:20260425T040909
CREATED:20240709T144341Z
LAST-MODIFIED:20260112T060140Z
UID:1888-1723366800-1723395600@klgu.org
SUMMARY:Mombasa Ladies Open
DESCRIPTION:Mombasa Ladies Open
URL:https://klgu.org/event/mombasa-ladies-open/
CATEGORIES:Golf
END:VEVENT
BEGIN:VEVENT
DTSTART;TZID=UTC:20240810T090000
DTEND;TZID=UTC:20240810T170000
DTSTAMP:20260425T040909
CREATED:20240709T144341Z
LAST-MODIFIED:20260112T060137Z
UID:1887-1723280400-1723309200@klgu.org
SUMMARY:Leisure Ladies Open
DESCRIPTION:Leisure Ladies Open
URL:https://klgu.org/event/leisure-ladies-open/
CATEGORIES:Golf
END:VEVENT
BEGIN:VEVENT
DTSTART;TZID=UTC:20240806T090000
DTEND;TZID=UTC:20240806T170000
DTSTAMP:20260425T040909
CREATED:20240709T144325Z
LAST-MODIFIED:20260112T060133Z
UID:1886-1722934800-1722963600@klgu.org
SUMMARY:Rest Day
DESCRIPTION:Rest Day
URL:https://klgu.org/event/rest-day/
CATEGORIES:Golf
END:VEVENT
BEGIN:VEVENT
DTSTART;TZID=UTC:20240805T090000
DTEND;TZID=UTC:20240805T170000
DTSTAMP:20260425T040909
CREATED:20240709T144325Z
LAST-MODIFIED:20260112T060129Z
UID:1885-1722848400-1722877200@klgu.org
SUMMARY:Vipingo Ladies Open (GOTY)
DESCRIPTION:Vipingo Ladies Open (GOTY)
URL:https://klgu.org/event/vipingo-ladies-open-goty/
CATEGORIES:Golf
END:VEVENT
BEGIN:VEVENT
DTSTART;TZID=UTC:20240803T090000
DTEND;TZID=UTC:20240803T170000
DTSTAMP:20260425T040909
CREATED:20240709T144325Z
LAST-MODIFIED:20260112T060122Z
UID:1884-1722675600-1722704400@klgu.org
SUMMARY:Malindi Ladies Open
DESCRIPTION:Malindi Ladies Open
URL:https://klgu.org/event/malindi-ladies-open/
CATEGORIES:Golf
END:VEVENT
BEGIN:VEVENT
DTSTART;TZID=UTC:20240727T090000
DTEND;TZID=UTC:20240727T170000
DTSTAMP:20260425T040909
CREATED:20240709T144325Z
LAST-MODIFIED:20260112T060112Z
UID:1883-1722070800-1722099600@klgu.org
SUMMARY:Kiambu Ladies Open Craig Bowl
DESCRIPTION:Kiambu Ladies Open Craig Bowl
URL:https://klgu.org/event/kiambu-ladies-open-craig-bowl/
CATEGORIES:Golf
END:VEVENT
BEGIN:VEVENT
DTSTART;TZID=UTC:20240707T090000
DTEND;TZID=UTC:20240707T170000
DTSTAMP:20260425T040909
CREATED:20240709T144325Z
LAST-MODIFIED:20260112T060106Z
UID:1882-1720342800-1720371600@klgu.org
SUMMARY:Railway Ladies Open
DESCRIPTION:Railway Ladies Open
URL:https://klgu.org/event/railway-ladies-open/
CATEGORIES:Golf
END:VEVENT
BEGIN:VEVENT
DTSTART;TZID=UTC:20240706T090000
DTEND;TZID=UTC:20240706T170000
DTSTAMP:20260425T040909
CREATED:20240709T144308Z
LAST-MODIFIED:20260112T060102Z
UID:1881-1720256400-1720285200@klgu.org
SUMMARY:Royal Ladies Open (GOTY)
DESCRIPTION:Royal Ladies Open (GOTY)
URL:https://klgu.org/event/royal-ladies-open-goty/
CATEGORIES:Golf
END:VEVENT
BEGIN:VEVENT
DTSTART;TZID=UTC:20240624T090000
DTEND;TZID=UTC:20240624T170000
DTSTAMP:20260425T040909
CREATED:20240709T144308Z
LAST-MODIFIED:20260112T060059Z
UID:1880-1719219600-1719248400@klgu.org
SUMMARY:KLGU/LC Meeting
DESCRIPTION:KLGU/LC Meeting
URL:https://klgu.org/event/klgu-lc-meeting/
CATEGORIES:Golf
END:VEVENT
BEGIN:VEVENT
DTSTART;TZID=UTC:20240622T090000
DTEND;TZID=UTC:20240622T170000
DTSTAMP:20260425T040909
CREATED:20240709T144308Z
LAST-MODIFIED:20260112T060054Z
UID:1879-1719046800-1719075600@klgu.org
SUMMARY:Machakos Ladies Open
DESCRIPTION:Machakos Ladies Open
URL:https://klgu.org/event/machakos-ladies-open/
CATEGORIES:Golf
END:VEVENT
BEGIN:VEVENT
DTSTART;TZID=UTC:20240615T090000
DTEND;TZID=UTC:20240615T170000
DTSTAMP:20260425T040909
CREATED:20240709T144308Z
LAST-MODIFIED:20260112T060044Z
UID:1878-1718442000-1718470800@klgu.org
SUMMARY:Thika Sports Ladies Open
DESCRIPTION:Thika Sports Ladies Open
URL:https://klgu.org/event/thika-sports-ladies-open/
CATEGORIES:Golf
END:VEVENT
BEGIN:VEVENT
DTSTART;TZID=UTC:20240614T090000
DTEND;TZID=UTC:20240614T170000
DTSTAMP:20260425T040909
CREATED:20240709T144308Z
LAST-MODIFIED:20260112T060038Z
UID:1877-1718355600-1718384400@klgu.org
SUMMARY:Ruiru Ladies Open
DESCRIPTION:Ruiru Ladies Open
URL:https://klgu.org/event/ruiru-ladies-open/
CATEGORIES:Golf
END:VEVENT
BEGIN:VEVENT
DTSTART;TZID=UTC:20240613T090000
DTEND;TZID=UTC:20240613T170000
DTSTAMP:20260425T040909
CREATED:20240709T144253Z
LAST-MODIFIED:20260112T060035Z
UID:1876-1718269200-1718298000@klgu.org
SUMMARY:Thika Greens Ladies Open
DESCRIPTION:Thika Greens Ladies Open
URL:https://klgu.org/event/thika-greens-ladies-open/
CATEGORIES:Golf
END:VEVENT
BEGIN:VEVENT
DTSTART;TZID=UTC:20240609T090000
DTEND;TZID=UTC:20240609T170000
DTSTAMP:20260425T040909
CREATED:20240709T144252Z
LAST-MODIFIED:20260112T060030Z
UID:1875-1717923600-1717952400@klgu.org
SUMMARY:Muthaiga Ladies Open (GOTY)
DESCRIPTION:Muthaiga Ladies Open (GOTY)
URL:https://klgu.org/event/muthaiga-ladies-open-goty/
CATEGORIES:Golf
END:VEVENT
BEGIN:VEVENT
DTSTART;TZID=UTC:20240601T090000
DTEND;TZID=UTC:20240601T170000
DTSTAMP:20260425T040909
CREATED:20240709T144252Z
LAST-MODIFIED:20260112T060027Z
UID:1874-1717232400-1717261200@klgu.org
SUMMARY:Muthaiga Ladies Open
DESCRIPTION:Muthaiga Ladies Open
URL:https://klgu.org/event/muthaiga-ladies-open/
CATEGORIES:Golf
END:VEVENT
BEGIN:VEVENT
DTSTART;TZID=UTC:20240526T090000
DTEND;TZID=UTC:20240526T170000
DTSTAMP:20260425T040909
CREATED:20240709T144252Z
LAST-MODIFIED:20260112T060024Z
UID:1873-1716714000-1716742800@klgu.org
SUMMARY:Nanyuki Ladies Open
DESCRIPTION:Nanyuki Ladies Open
URL:https://klgu.org/event/nanyuki-ladies-open/
CATEGORIES:Golf
END:VEVENT
BEGIN:VEVENT
DTSTART;TZID=UTC:20240525T090000
DTEND;TZID=UTC:20240525T170000
DTSTAMP:20260425T040909
CREATED:20240709T144252Z
LAST-MODIFIED:20260112T060016Z
UID:1872-1716627600-1716656400@klgu.org
SUMMARY:Nyeri Ladies Open
DESCRIPTION:Nyeri Ladies Open
URL:https://klgu.org/event/nyeri-ladies-open/
CATEGORIES:Golf
END:VEVENT
BEGIN:VEVENT
DTSTART;TZID=UTC:20240518T090000
DTEND;TZID=UTC:20240518T170000
DTSTAMP:20260425T040909
CREATED:20240709T144243Z
LAST-MODIFIED:20260112T060010Z
UID:1871-1716022800-1716051600@klgu.org
SUMMARY:Nyahururu Ladies Open (GOTY)
DESCRIPTION:Nyahururu Ladies Open (GOTY)
URL:https://klgu.org/event/nyahururu-ladies-open-goty/
CATEGORIES:Golf
END:VEVENT
BEGIN:VEVENT
DTSTART;TZID=UTC:20240512T090000
DTEND;TZID=UTC:20240512T170000
DTSTAMP:20260425T040909
CREATED:20240709T144242Z
LAST-MODIFIED:20260112T060005Z
UID:1870-1715504400-1715533200@klgu.org
SUMMARY:Windsor Ladies Open (GOTY)
DESCRIPTION:Windsor Ladies Open (GOTY)
URL:https://klgu.org/event/windsor-ladies-open-goty/
CATEGORIES:Golf
END:VEVENT
BEGIN:VEVENT
DTSTART;TZID=UTC:20240511T090000
DTEND;TZID=UTC:20240511T170000
DTSTAMP:20260425T040909
CREATED:20240709T144242Z
LAST-MODIFIED:20260112T060000Z
UID:1869-1715418000-1715446800@klgu.org
SUMMARY:Limuru Ladies Open (GOTY)
DESCRIPTION:Limuru Ladies Open (GOTY)
URL:https://klgu.org/event/limuru-ladies-open-goty/
CATEGORIES:Golf
END:VEVENT
BEGIN:VEVENT
DTSTART;TZID=UTC:20240505T090000
DTEND;TZID=UTC:20240505T170000
DTSTAMP:20260425T040909
CREATED:20240709T144242Z
LAST-MODIFIED:20260112T055956Z
UID:1868-1714899600-1714928400@klgu.org
SUMMARY:KLO M/P Championship (GOTY)
DESCRIPTION:KLO M/P Championship (GOTY)
URL:https://klgu.org/event/klo-m-p-championship-goty-3/
CATEGORIES:Golf
END:VEVENT
END:VCALENDAR