BEGIN:VCALENDAR
VERSION:2.0
PRODID:-//Kenya Ladies Golf Union - ECPv6.6.4.2//NONSGML v1.0//EN
CALSCALE:GREGORIAN
METHOD:PUBLISH
X-WR-CALNAME:Kenya Ladies Golf Union
X-ORIGINAL-URL:https://klgu.org
X-WR-CALDESC:Events for Kenya Ladies Golf Union
REFRESH-INTERVAL;VALUE=DURATION:PT1H
X-Robots-Tag:noindex
X-PUBLISHED-TTL:PT1H
BEGIN:VTIMEZONE
TZID:Europe/Moscow
BEGIN:STANDARD
TZOFFSETFROM:+0300
TZOFFSETTO:+0300
TZNAME:MSK
DTSTART:20260101T000000
END:STANDARD
END:VTIMEZONE
BEGIN:VEVENT
DTSTART;TZID=Europe/Moscow:20260620T000000
DTEND;TZID=Europe/Moscow:20260620T000000
DTSTAMP:20260424T031936
CREATED:20251230T210000Z
LAST-MODIFIED:20260619T210000Z
UID:30040-1781913600-1781913600@klgu.org
SUMMARY:MACHAKOS LADIES OPEN
DESCRIPTION:
URL:https://klgu.org/event/machakos-ladies-open-2026-06-20/
END:VEVENT
BEGIN:VEVENT
DTSTART;TZID=Europe/Moscow:20260622T000000
DTEND;TZID=Europe/Moscow:20260622T000000
DTSTAMP:20260424T031936
CREATED:20251230T210000Z
LAST-MODIFIED:20260621T210000Z
UID:30041-1782086400-1782086400@klgu.org
SUMMARY:NYAHURURU LADIES OPEN
DESCRIPTION:
URL:https://klgu.org/event/nyahururu-ladies-open-2026-06-22/
END:VEVENT
BEGIN:VEVENT
DTSTART;TZID=Europe/Moscow:20260622T000000
DTEND;TZID=Europe/Moscow:20260622T000000
DTSTAMP:20260424T031936
CREATED:20251230T210000Z
LAST-MODIFIED:20260621T210000Z
UID:30042-1782086400-1782086400@klgu.org
SUMMARY:KLGU & LC'S MEETING
DESCRIPTION:
URL:https://klgu.org/event/klgu-lcs-meeting-2026-06-22-2/
END:VEVENT
BEGIN:VEVENT
DTSTART;TZID=Europe/Moscow:20260623T000000
DTEND;TZID=Europe/Moscow:20260623T000000
DTSTAMP:20260424T031936
CREATED:20251230T210000Z
LAST-MODIFIED:20260622T210000Z
UID:30043-1782172800-1782172800@klgu.org
SUMMARY:NYERI LADIES OPEN
DESCRIPTION:
URL:https://klgu.org/event/nyeri-ladies-open-2026-06-23-1/
END:VEVENT
BEGIN:VEVENT
DTSTART;TZID=Europe/Moscow:20260623T000000
DTEND;TZID=Europe/Moscow:20260623T000000
DTSTAMP:20260424T031936
CREATED:20251230T210000Z
LAST-MODIFIED:20260622T210000Z
UID:30044-1782172800-1782172800@klgu.org
SUMMARY:INTER-CLUB LEAGUE
DESCRIPTION:
URL:https://klgu.org/event/inter-club-league-2026-06-23-2/
END:VEVENT
BEGIN:VEVENT
DTSTART;TZID=Europe/Moscow:20260624T000000
DTEND;TZID=Europe/Moscow:20260624T000000
DTSTAMP:20260424T031936
CREATED:20251230T210000Z
LAST-MODIFIED:20260623T210000Z
UID:30045-1782259200-1782259200@klgu.org
SUMMARY:NANYUKI LADIES OPEN (GOTY)
DESCRIPTION:
URL:https://klgu.org/event/nanyuki-ladies-open-2026-06-24/
END:VEVENT
BEGIN:VEVENT
DTSTART;TZID=Europe/Moscow:20260624T000000
DTEND;TZID=Europe/Moscow:20260624T000000
DTSTAMP:20260424T031936
CREATED:20251230T210000Z
LAST-MODIFIED:20260623T210000Z
UID:30046-1782259200-1782259200@klgu.org
SUMMARY:KLGU MEETING
DESCRIPTION:
URL:https://klgu.org/event/klgu-meeting-2026-06-24-2/
END:VEVENT
BEGIN:VEVENT
DTSTART;TZID=Europe/Moscow:20260625T000000
DTEND;TZID=Europe/Moscow:20260625T000000
DTSTAMP:20260424T031936
CREATED:20251230T210000Z
LAST-MODIFIED:20260624T210000Z
UID:30047-1782345600-1782345600@klgu.org
SUMMARY:KIAMBU LADIES OPEN - CRAIG BOWL
DESCRIPTION:
URL:https://klgu.org/event/kiambu-ladies-open-2026-06-25/
END:VEVENT
BEGIN:VEVENT
DTSTART;TZID=Europe/Moscow:20260627T000000
DTEND;TZID=Europe/Moscow:20260627T000000
DTSTAMP:20260424T031936
CREATED:20251230T210000Z
LAST-MODIFIED:20260626T210000Z
UID:30048-1782518400-1782518400@klgu.org
SUMMARY:RUIRU LADIES OPEN (GOTY)
DESCRIPTION:
URL:https://klgu.org/event/ruiru-ladies-open-2026-06-27/
END:VEVENT
BEGIN:VEVENT
DTSTART;TZID=Europe/Moscow:20260628T000000
DTEND;TZID=Europe/Moscow:20260628T000000
DTSTAMP:20260424T031936
CREATED:20251230T210000Z
LAST-MODIFIED:20260627T210000Z
UID:30049-1782604800-1782604800@klgu.org
SUMMARY:INTER-CLUB LEAGUE
DESCRIPTION:
URL:https://klgu.org/event/inter-club-league-2026-06-28-1/
END:VEVENT
BEGIN:VEVENT
DTSTART;TZID=Europe/Moscow:20260702T000000
DTEND;TZID=Europe/Moscow:20260702T000000
DTSTAMP:20260424T031936
CREATED:20251230T210000Z
LAST-MODIFIED:20260701T210000Z
UID:30051-1782950400-1782950400@klgu.org
SUMMARY:VIPINGO LADIES OPEN
DESCRIPTION:
URL:https://klgu.org/event/vipingo-ladies-open-2026-07-02/
END:VEVENT
BEGIN:VEVENT
DTSTART;TZID=Europe/Moscow:20260708T000000
DTEND;TZID=Europe/Moscow:20260708T000000
DTSTAMP:20260424T031936
CREATED:20251230T210000Z
LAST-MODIFIED:20260707T210000Z
UID:30052-1783468800-1783468800@klgu.org
SUMMARY:NYALI LADIES OPEN
DESCRIPTION:
URL:https://klgu.org/event/nyali-ladies-open-2026-07-08-2/
END:VEVENT
BEGIN:VEVENT
DTSTART;TZID=Europe/Moscow:20260711T000000
DTEND;TZID=Europe/Moscow:20260711T000000
DTSTAMP:20260424T031936
CREATED:20251230T210000Z
LAST-MODIFIED:20260710T210000Z
UID:30053-1783728000-1783728000@klgu.org
SUMMARY:THIKA GREENS LADIES OPEN
DESCRIPTION:
URL:https://klgu.org/event/thika-greens-ladies-open-2026-07-11/
END:VEVENT
BEGIN:VEVENT
DTSTART;TZID=Europe/Moscow:20260713T000000
DTEND;TZID=Europe/Moscow:20260713T000000
DTSTAMP:20260424T031936
CREATED:20251230T210000Z
LAST-MODIFIED:20260712T210000Z
UID:30054-1783900800-1783900800@klgu.org
SUMMARY:MUTHAIGA LADIES OPEN
DESCRIPTION:
URL:https://klgu.org/event/muthaiga-ladies-open-2026-07-13-2/
END:VEVENT
BEGIN:VEVENT
DTSTART;TZID=Europe/Moscow:20260714T000000
DTEND;TZID=Europe/Moscow:20260714T000000
DTSTAMP:20260424T031936
CREATED:20251230T210000Z
LAST-MODIFIED:20260713T210000Z
UID:30055-1783987200-1783987200@klgu.org
SUMMARY:MATCH PLAY CHAMPIONSHIP (GOTY)
DESCRIPTION:
URL:https://klgu.org/event/match-play-championship-2026-07-14-2/
END:VEVENT
BEGIN:VEVENT
DTSTART;TZID=Europe/Moscow:20260905T000000
DTEND;TZID=Europe/Moscow:20260906T000000
DTSTAMP:20260424T031936
CREATED:20251230T210000Z
LAST-MODIFIED:20260904T210000Z
UID:30056-1788566400-1788652800@klgu.org
SUMMARY:EILEEN BELCHER TROPHY
DESCRIPTION:
URL:https://klgu.org/event/eileen-belcher-trophy-2026-09-05/
END:VEVENT
BEGIN:VEVENT
DTSTART;TZID=Europe/Moscow:20260924T000000
DTEND;TZID=Europe/Moscow:20260924T000000
DTSTAMP:20260424T031936
CREATED:20251230T210000Z
LAST-MODIFIED:20260923T210000Z
UID:30057-1790208000-1790208000@klgu.org
SUMMARY:GRVL LADIES OPEN
DESCRIPTION:
URL:https://klgu.org/event/grvl-ladies-open-2026-09-24/
END:VEVENT
BEGIN:VEVENT
DTSTART;TZID=Europe/Moscow:20260925T000000
DTEND;TZID=Europe/Moscow:20260925T000000
DTSTAMP:20260424T031936
CREATED:20251230T210000Z
LAST-MODIFIED:20260924T210000Z
UID:30058-1790294400-1790294400@klgu.org
SUMMARY:NAIVASHA LADIES OPEN
DESCRIPTION:
URL:https://klgu.org/event/naivasha-ladies-open-2026-09-25/
END:VEVENT
BEGIN:VEVENT
DTSTART;TZID=Europe/Moscow:20260926T000000
DTEND;TZID=Europe/Moscow:20260926T000000
DTSTAMP:20260424T031936
CREATED:20251230T210000Z
LAST-MODIFIED:20260925T210000Z
UID:30059-1790380800-1790380800@klgu.org
SUMMARY:NAKURU LADIES OPEN (GOTY)
DESCRIPTION:
URL:https://klgu.org/event/nakuru-ladies-open-2026-09-26/
END:VEVENT
BEGIN:VEVENT
DTSTART;TZID=Europe/Moscow:20260927T000000
DTEND;TZID=Europe/Moscow:20260927T000000
DTSTAMP:20260424T031936
CREATED:20251230T210000Z
LAST-MODIFIED:20260926T210000Z
UID:30060-1790467200-1790467200@klgu.org
SUMMARY:NJORO LADIES OPEN
DESCRIPTION:
URL:https://klgu.org/event/njoro-ladies-open-2026-09-27/
END:VEVENT
BEGIN:VEVENT
DTSTART;TZID=Europe/Moscow:20261008T000000
DTEND;TZID=Europe/Moscow:20261008T000000
DTSTAMP:20260424T031936
CREATED:20251230T210000Z
LAST-MODIFIED:20261007T210000Z
UID:30061-1791417600-1791417600@klgu.org
SUMMARY:KISII LADIES OPEN
DESCRIPTION:
URL:https://klgu.org/event/kisii-ladies-open-2026-10-08/
END:VEVENT
BEGIN:VEVENT
DTSTART;TZID=Europe/Moscow:20261009T000000
DTEND;TZID=Europe/Moscow:20261009T000000
DTSTAMP:20260424T031936
CREATED:20251230T210000Z
LAST-MODIFIED:20261008T210000Z
UID:30062-1791504000-1791504000@klgu.org
SUMMARY:KERICHO LADIES OPEN
DESCRIPTION:
URL:https://klgu.org/event/kericho-ladies-open-2026-10-09/
END:VEVENT
BEGIN:VEVENT
DTSTART;TZID=Europe/Moscow:20261010T000000
DTEND;TZID=Europe/Moscow:20261010T000000
DTSTAMP:20260424T031936
CREATED:20251230T210000Z
LAST-MODIFIED:20261009T210000Z
UID:30063-1791590400-1791590400@klgu.org
SUMMARY:NYANZA LADIES OPEN (GOTY)
DESCRIPTION:
URL:https://klgu.org/event/nyanza-ladies-open-2026-10-10/
END:VEVENT
BEGIN:VEVENT
DTSTART;TZID=Europe/Moscow:20261011T000000
DTEND;TZID=Europe/Moscow:20261011T000000
DTSTAMP:20260424T031936
CREATED:20251230T210000Z
LAST-MODIFIED:20261010T210000Z
UID:30064-1791676800-1791676800@klgu.org
SUMMARY:KAKAMEGA LADIES OPEN
DESCRIPTION:
URL:https://klgu.org/event/kakamega-ladies-open-2026-10-11/
END:VEVENT
BEGIN:VEVENT
DTSTART;TZID=Europe/Moscow:20261012T000000
DTEND;TZID=Europe/Moscow:20261012T000000
DTSTAMP:20260424T031936
CREATED:20251230T210000Z
LAST-MODIFIED:20261011T210000Z
UID:30065-1791763200-1791763200@klgu.org
SUMMARY:GOLF PARK LADIES OPEN
DESCRIPTION:
URL:https://klgu.org/event/golf-park-ladies-open-2026-10-12/
END:VEVENT
BEGIN:VEVENT
DTSTART;TZID=Europe/Moscow:20261014T000000
DTEND;TZID=Europe/Moscow:20261014T000000
DTSTAMP:20260424T031936
CREATED:20251230T210000Z
LAST-MODIFIED:20261013T210000Z
UID:30066-1791936000-1791936000@klgu.org
SUMMARY:KLGU & LC's MEETING
DESCRIPTION:
URL:https://klgu.org/event/klgu-lcs-meeting-2026-10-14-3/
END:VEVENT
BEGIN:VEVENT
DTSTART;VALUE=DATE:20261102
DTEND;VALUE=DATE:20261103
DTSTAMP:20260424T031936
CREATED:20251230T210000Z
LAST-MODIFIED:20260112T110206Z
UID:30068-1793577600-1793663999@klgu.org
SUMMARY:KLGU MEETING
DESCRIPTION:
URL:https://klgu.org/event/klgu-meeting-2026-11-02-1/
END:VEVENT
BEGIN:VEVENT
DTSTART;TZID=Europe/Moscow:20270104T000000
DTEND;TZID=Europe/Moscow:20270104T000000
DTSTAMP:20260424T031936
CREATED:20251230T210000Z
LAST-MODIFIED:20270103T210000Z
UID:30072-1799020800-1799020800@klgu.org
SUMMARY:KLGU MEETING
DESCRIPTION:
URL:https://klgu.org/event/klgu-meeting-2027-01-04/
END:VEVENT
BEGIN:VEVENT
DTSTART;TZID=Europe/Moscow:20270129T000000
DTEND;TZID=Europe/Moscow:20270129T000000
DTSTAMP:20260424T031936
CREATED:20251230T210000Z
LAST-MODIFIED:20270128T210000Z
UID:30073-1801180800-1801180800@klgu.org
SUMMARY:KLGU AGM
DESCRIPTION:
URL:https://klgu.org/event/klgu-agm-2027-01-29/
END:VEVENT
BEGIN:VEVENT
DTSTART;TZID=Europe/Moscow:20270130T000000
DTEND;TZID=Europe/Moscow:20270130T000000
DTSTAMP:20260424T031936
CREATED:20251230T210000Z
LAST-MODIFIED:20270129T210000Z
UID:30074-1801267200-1801267200@klgu.org
SUMMARY:KLGU CHAIRMAN'S PRIZE
DESCRIPTION:
URL:https://klgu.org/event/klgu-chairmans-prize-2027-01-30/
END:VEVENT
END:VCALENDAR