BEGIN:VCALENDAR
VERSION:2.0
PRODID:-//Kenya Ladies Golf Union - ECPv6.6.4.2//NONSGML v1.0//EN
CALSCALE:GREGORIAN
METHOD:PUBLISH
X-WR-CALNAME:Kenya Ladies Golf Union
X-ORIGINAL-URL:https://klgu.org
X-WR-CALDESC:Events for Kenya Ladies Golf Union
REFRESH-INTERVAL;VALUE=DURATION:PT1H
X-Robots-Tag:noindex
X-PUBLISHED-TTL:PT1H
BEGIN:VTIMEZONE
TZID:Europe/Moscow
BEGIN:STANDARD
TZOFFSETFROM:+0300
TZOFFSETTO:+0300
TZNAME:MSK
DTSTART:20250101T000000
END:STANDARD
TZID:Africa/Nairobi
BEGIN:STANDARD
TZOFFSETFROM:+0300
TZOFFSETTO:+0300
TZNAME:EAT
DTSTART:20250101T000000
END:STANDARD
END:VTIMEZONE
BEGIN:VEVENT
DTSTART;TZID=Europe/Moscow:20260502T000000
DTEND;TZID=Europe/Moscow:20260502T000000
DTSTAMP:20260424T004714
CREATED:20251230T210000Z
LAST-MODIFIED:20260501T210000Z
UID:30023-1777680000-1777680000@klgu.org
SUMMARY:LIMURU LADIES OPEN (GOTY)
DESCRIPTION:
URL:https://klgu.org/event/limuru-ladies-open-2026-05-02/
END:VEVENT
BEGIN:VEVENT
DTSTART;TZID=Europe/Moscow:20260501T000000
DTEND;TZID=Europe/Moscow:20260501T000000
DTSTAMP:20260424T004714
CREATED:20251230T210000Z
LAST-MODIFIED:20260430T210000Z
UID:30022-1777593600-1777593600@klgu.org
SUMMARY:Labour Day
DESCRIPTION:
URL:https://klgu.org/event/labour-day-2026-05-01/
END:VEVENT
BEGIN:VEVENT
DTSTART;TZID=Europe/Moscow:20260331T000000
DTEND;TZID=Europe/Moscow:20260331T000000
DTSTAMP:20260424T004714
CREATED:20251230T210000Z
LAST-MODIFIED:20260330T210000Z
UID:30021-1774915200-1774915200@klgu.org
SUMMARY:KLGU CHAIRMAN'S PRIZE
DESCRIPTION:
URL:https://klgu.org/event/klgu-chairmans-prize-2026-03-31/
END:VEVENT
BEGIN:VEVENT
DTSTART;TZID=Europe/Moscow:20260330T000000
DTEND;TZID=Europe/Moscow:20260330T000000
DTSTAMP:20260424T004714
CREATED:20251230T210000Z
LAST-MODIFIED:20260329T210000Z
UID:30020-1774828800-1774828800@klgu.org
SUMMARY:KLGU AGM
DESCRIPTION:
URL:https://klgu.org/event/klgu-agm-2026-03-30/
END:VEVENT
BEGIN:VEVENT
DTSTART;TZID=Europe/Moscow:20260328T000000
DTEND;TZID=Europe/Moscow:20260328T000000
DTSTAMP:20260424T004714
CREATED:20251230T210000Z
LAST-MODIFIED:20260327T210000Z
UID:30019-1774656000-1774656000@klgu.org
SUMMARY:AIRFORCE LADIES OPEN
DESCRIPTION:
URL:https://klgu.org/event/airforce-ladies-open-2026-03-28/
END:VEVENT
BEGIN:VEVENT
DTSTART;TZID=Europe/Moscow:20260325T000000
DTEND;TZID=Europe/Moscow:20260325T000000
DTSTAMP:20260424T004714
CREATED:20251230T210000Z
LAST-MODIFIED:20260324T210000Z
UID:30018-1774396800-1774396800@klgu.org
SUMMARY:INTER-CLUB LEAGUE
DESCRIPTION:
URL:https://klgu.org/event/inter-club-league-2026-03-25/
END:VEVENT
BEGIN:VEVENT
DTSTART;TZID=Europe/Moscow:20260323T000000
DTEND;TZID=Europe/Moscow:20260327T000000
DTSTAMP:20260424T004714
CREATED:20251230T210000Z
LAST-MODIFIED:20260322T210000Z
UID:30017-1774224000-1774569600@klgu.org
SUMMARY:AAJTC
DESCRIPTION:
URL:https://klgu.org/event/aajtc-windsor-2026-03-23/
END:VEVENT
BEGIN:VEVENT
DTSTART;TZID=Europe/Moscow:20260322T000000
DTEND;TZID=Europe/Moscow:20260322T000000
DTSTAMP:20260424T004714
CREATED:20251230T210000Z
LAST-MODIFIED:20260321T210000Z
UID:30016-1774137600-1774137600@klgu.org
SUMMARY:ELDORET LADIES OPEN
DESCRIPTION:
URL:https://klgu.org/event/eldoret-ladies-open-2026-03-22/
END:VEVENT
BEGIN:VEVENT
DTSTART;TZID=Europe/Moscow:20260321T000000
DTEND;TZID=Europe/Moscow:20260321T000000
DTSTAMP:20260424T004714
CREATED:20251230T210000Z
LAST-MODIFIED:20260320T210000Z
UID:30015-1774051200-1774051200@klgu.org
SUMMARY:KITALE LADIES OPEN (GOTY)
DESCRIPTION:
URL:https://klgu.org/event/kitale-ladies-open-2026-03-21/
END:VEVENT
BEGIN:VEVENT
DTSTART;TZID=Europe/Moscow:20260320T000000
DTEND;TZID=Europe/Moscow:20260320T000000
DTSTAMP:20260424T004714
CREATED:20251230T210000Z
LAST-MODIFIED:20260319T210000Z
UID:30013-1773964800-1773964800@klgu.org
SUMMARY:NANDI LADIES OPEN
DESCRIPTION:
URL:https://klgu.org/event/nandi-ladies-open-2026-03-20-1/
END:VEVENT
BEGIN:VEVENT
DTSTART;TZID=Europe/Moscow:20260320T000000
DTEND;TZID=Europe/Moscow:20260320T000000
DTSTAMP:20260424T004714
CREATED:20251230T210000Z
LAST-MODIFIED:20260319T210000Z
UID:30014-1773964800-1773964800@klgu.org
SUMMARY:KLGU & LCs MEETING
DESCRIPTION:
URL:https://klgu.org/event/klgu-lcs-meeting-2026-03-20-1/
END:VEVENT
BEGIN:VEVENT
DTSTART;TZID=Europe/Moscow:20260318T000000
DTEND;TZID=Europe/Moscow:20260318T000000
DTSTAMP:20260424T004714
CREATED:20251230T210000Z
LAST-MODIFIED:20260317T210000Z
UID:30012-1773792000-1773792000@klgu.org
SUMMARY:KAREN LADIES OPEN (GOTY)
DESCRIPTION:
URL:https://klgu.org/event/karen-ladies-open-2026-03-18-1/
END:VEVENT
BEGIN:VEVENT
DTSTART;TZID=Europe/Moscow:20260317T000000
DTEND;TZID=Europe/Moscow:20260317T000000
DTSTAMP:20260424T004714
CREATED:20251230T210000Z
LAST-MODIFIED:20260316T210000Z
UID:30010-1773705600-1773705600@klgu.org
SUMMARY:LADY CAPTAIN'S INDUCTION
DESCRIPTION:
URL:https://klgu.org/event/lady-captains-induction-2026-03-17/
END:VEVENT
BEGIN:VEVENT
DTSTART;TZID=Europe/Moscow:20260308T000000
DTEND;TZID=Europe/Moscow:20260308T000000
DTSTAMP:20260424T004714
CREATED:20251230T210000Z
LAST-MODIFIED:20260307T210000Z
UID:30009-1772928000-1772928000@klgu.org
SUMMARY:INTL. WOMEN'S DAY TOURNAMENT
DESCRIPTION:
URL:https://klgu.org/event/intl-womens-day-tournament-2026-03-08/
END:VEVENT
BEGIN:VEVENT
DTSTART;VALUE=DATE:20260218
DTEND;VALUE=DATE:20260223
DTSTAMP:20260424T004714
CREATED:20251230T210000Z
LAST-MODIFIED:20260216T052442Z
UID:30011-1771372800-1771804799@klgu.org
SUMMARY:MAGICAL KENYA OPEN
DESCRIPTION:
URL:https://klgu.org/event/magical-kenya-open-2026-03-18/
LOCATION:Karen Country Club\, Nairobi\, Kenya
CATEGORIES:Golf
END:VEVENT
BEGIN:VEVENT
DTSTART;VALUE=DATE:20260216
DTEND;VALUE=DATE:20260217
DTSTAMP:20260424T004714
CREATED:20251230T210000Z
LAST-MODIFIED:20260112T110742Z
UID:30006-1771200000-1771286399@klgu.org
SUMMARY:KLGU MEETING
DESCRIPTION:
URL:https://klgu.org/event/klgu-meeting-2026-01-16/
END:VEVENT
BEGIN:VEVENT
DTSTART;VALUE=DATE:20260215
DTEND;VALUE=DATE:20260216
DTSTAMP:20260424T004714
CREATED:20251230T210000Z
LAST-MODIFIED:20260112T110708Z
UID:30005-1771113600-1771199999@klgu.org
SUMMARY:INTER-CLUB LEAGUE
DESCRIPTION:
URL:https://klgu.org/event/inter-club-league-2026-01-15/
END:VEVENT
BEGIN:VEVENT
DTSTART;VALUE=DATE:20260214
DTEND;VALUE=DATE:20260215
DTSTAMP:20260424T004714
CREATED:20251230T210000Z
LAST-MODIFIED:20260112T110637Z
UID:30004-1771027200-1771113599@klgu.org
SUMMARY:SIGONA LADIES OPEN (GOTY)
DESCRIPTION:
URL:https://klgu.org/event/sigona-ladies-open-2026-01-14/
END:VEVENT
BEGIN:VEVENT
DTSTART;VALUE=DATE:20260131
DTEND;VALUE=DATE:20260201
DTSTAMP:20260424T004714
CREATED:20250413T161604Z
LAST-MODIFIED:20250413T162022Z
UID:2012-1769817600-1769903999@klgu.org
SUMMARY:KLGU CHAIRMAN’S PRIZE
DESCRIPTION:
URL:https://klgu.org/event/klgu-chairmans-prize-3/
CATEGORIES:Golf
END:VEVENT
BEGIN:VEVENT
DTSTART;VALUE=DATE:20260130
DTEND;VALUE=DATE:20260131
DTSTAMP:20260424T004714
CREATED:20250413T161604Z
LAST-MODIFIED:20260112T060622Z
UID:2011-1769731200-1769817599@klgu.org
SUMMARY:KLGU AGM
DESCRIPTION:
URL:https://klgu.org/event/klgu-agm-4/
CATEGORIES:Golf
END:VEVENT
BEGIN:VEVENT
DTSTART;TZID=Europe/Moscow:20260110T000000
DTEND;TZID=Europe/Moscow:20260112T000000
DTSTAMP:20260424T004714
CREATED:20251230T210000Z
LAST-MODIFIED:20260109T210000Z
UID:30003-1768003200-1768176000@klgu.org
SUMMARY:KLGU OPEN MEETING (GOTY)
DESCRIPTION:
URL:https://klgu.org/event/klgu-open-meeting-2026-01-10/
END:VEVENT
BEGIN:VEVENT
DTSTART;VALUE=DATE:20260110
DTEND;VALUE=DATE:20260111
DTSTAMP:20260424T004714
CREATED:20250413T161604Z
LAST-MODIFIED:20250413T162022Z
UID:2010-1768003200-1768089599@klgu.org
SUMMARY:SIGONA LADIES OPEN (GOTY)
DESCRIPTION:
URL:https://klgu.org/event/sigona-ladies-open-goty-4/
CATEGORIES:Golf
END:VEVENT
BEGIN:VEVENT
DTSTART;TZID=Europe/Moscow:20260107T000000
DTEND;TZID=Europe/Moscow:20260107T000000
DTSTAMP:20260424T004714
CREATED:20251230T210000Z
LAST-MODIFIED:20260106T210000Z
UID:30002-1767744000-1767744000@klgu.org
SUMMARY:KABETE LADIES OPEN (GOTY)
DESCRIPTION:
URL:https://klgu.org/event/kabete-ladies-open-2026-01-07/
END:VEVENT
BEGIN:VEVENT
DTSTART;TZID=Europe/Moscow:20260105T000000
DTEND;TZID=Europe/Moscow:20260105T000000
DTSTAMP:20260424T004714
CREATED:20251230T210000Z
LAST-MODIFIED:20260104T210000Z
UID:30001-1767571200-1767571200@klgu.org
SUMMARY:KLGU MEETING
DESCRIPTION:
URL:https://klgu.org/event/klgu-meeting-2026-01-05/
END:VEVENT
BEGIN:VEVENT
DTSTART;VALUE=DATE:20251109
DTEND;VALUE=DATE:20251110
DTSTAMP:20260424T004714
CREATED:20250413T161604Z
LAST-MODIFIED:20250413T162022Z
UID:2009-1762646400-1762732799@klgu.org
SUMMARY:INTER-CLUB LEAGUE
DESCRIPTION:
URL:https://klgu.org/event/inter-club-league-3/
CATEGORIES:Golf
END:VEVENT
BEGIN:VEVENT
DTSTART;VALUE=DATE:20251103
DTEND;VALUE=DATE:20251104
DTSTAMP:20260424T004714
CREATED:20250413T161604Z
LAST-MODIFIED:20250413T161850Z
UID:2008-1762128000-1762214399@klgu.org
SUMMARY:KLGU MEETING
DESCRIPTION:
URL:https://klgu.org/event/klgu-meeting-8/
CATEGORIES:Golf
END:VEVENT
BEGIN:VEVENT
DTSTART;VALUE=DATE:20251023
DTEND;VALUE=DATE:20251024
DTSTAMP:20260424T004714
CREATED:20250904T023630Z
LAST-MODIFIED:20251012T150729Z
UID:2261-1761177600-1761263999@klgu.org
SUMMARY:EACAACT Supporters Tournament
DESCRIPTION:Format: Stableford \nEntry fee: Ksh. 2000/-  per round
URL:https://klgu.org/event/eacaact-supporters-tournament-2/
LOCATION:Mount Kipipiri Golf Resort\, Kenya
CATEGORIES:Golf
ATTACH;FMTTYPE=image/jpeg:https://klgu.org/wp-content/uploads/2025/09/EACAACT-Supporters.jpeg
END:VEVENT
BEGIN:VEVENT
DTSTART;VALUE=DATE:20251022
DTEND;VALUE=DATE:20251023
DTSTAMP:20260424T004714
CREATED:20250904T023255Z
LAST-MODIFIED:20250904T023825Z
UID:2258-1761091200-1761177599@klgu.org
SUMMARY:EACAACT Supporters Tournament
DESCRIPTION:Format: Stableford \nEntry fee: Ksh. 2000/-  per round
URL:https://klgu.org/event/eacaact-supporters-tournament/
LOCATION:Great Rift Valley Lodge & Golf Resort\, Kenya
CATEGORIES:Golf
ATTACH;FMTTYPE=image/jpeg:https://klgu.org/wp-content/uploads/2025/09/eacaactsupporters2025october.jpeg
END:VEVENT
BEGIN:VEVENT
DTSTART;VALUE=DATE:20251020
DTEND;VALUE=DATE:20251026
DTSTAMP:20260424T004714
CREATED:20250413T161837Z
LAST-MODIFIED:20251012T151635Z
UID:2078-1760918400-1761436799@klgu.org
SUMMARY:EAACAACT Ladies Golf Tournament
DESCRIPTION:Call:\nBetty Mutua +254 720 611239\nklgukenya@gmail.com
URL:https://klgu.org/event/eaacaact/
LOCATION:Great Rift Valley Lodge & Golf Resort\, Kenya
CATEGORIES:Golf
ATTACH;FMTTYPE=image/jpeg:https://klgu.org/wp-content/uploads/2025/04/EACAACT-Main-Event.jpeg
END:VEVENT
BEGIN:VEVENT
DTSTART;VALUE=DATE:20251019
DTEND;VALUE=DATE:20251020
DTSTAMP:20260424T004714
CREATED:20250413T161837Z
LAST-MODIFIED:20250413T161837Z
UID:2077-1760832000-1760918399@klgu.org
SUMMARY:INTER-CLUB LEAGUE
DESCRIPTION:
URL:https://klgu.org/event/inter-club-league-12/
CATEGORIES:Golf
END:VEVENT
END:VCALENDAR