BEGIN:VCALENDAR
VERSION:2.0
PRODID:-//Kenya Ladies Golf Union - ECPv6.6.4.2//NONSGML v1.0//EN
CALSCALE:GREGORIAN
METHOD:PUBLISH
X-ORIGINAL-URL:https://klgu.org
X-WR-CALDESC:Events for Kenya Ladies Golf Union
REFRESH-INTERVAL;VALUE=DURATION:PT1H
X-Robots-Tag:noindex
X-PUBLISHED-TTL:PT1H
BEGIN:VTIMEZONE
TZID:Africa/Nairobi
BEGIN:STANDARD
TZOFFSETFROM:+0300
TZOFFSETTO:+0300
TZNAME:EAT
DTSTART:20250101T000000
END:STANDARD
TZID:Europe/Moscow
BEGIN:STANDARD
TZOFFSETFROM:+0300
TZOFFSETTO:+0300
TZNAME:MSK
DTSTART:20250101T000000
END:STANDARD
END:VTIMEZONE
BEGIN:VEVENT
DTSTART;VALUE=DATE:20250805
DTEND;VALUE=DATE:20250806
DTSTAMP:20260424T024609
CREATED:20250413T161757Z
LAST-MODIFIED:20250413T161757Z
UID:2049-1754352000-1754438399@klgu.org
SUMMARY:VIPINGO LADIES OPEN
DESCRIPTION:
URL:https://klgu.org/event/vipingo-ladies-open-2/
CATEGORIES:Golf
END:VEVENT
BEGIN:VEVENT
DTSTART;VALUE=DATE:20250807
DTEND;VALUE=DATE:20250808
DTSTAMP:20260424T024609
CREATED:20250413T161757Z
LAST-MODIFIED:20250413T161757Z
UID:2050-1754524800-1754611199@klgu.org
SUMMARY:LEISURE LADIES OPEN (GOTY)
DESCRIPTION:
URL:https://klgu.org/event/leisure-ladies-open-goty/
CATEGORIES:Golf
END:VEVENT
BEGIN:VEVENT
DTSTART;VALUE=DATE:20250808
DTEND;VALUE=DATE:20250809
DTSTAMP:20260424T024609
CREATED:20250413T161757Z
LAST-MODIFIED:20250413T161757Z
UID:2051-1754611200-1754697599@klgu.org
SUMMARY:MOMBASA LADIES OPEN
DESCRIPTION:
URL:https://klgu.org/event/mombasa-ladies-open-2/
CATEGORIES:Golf
END:VEVENT
BEGIN:VEVENT
DTSTART;VALUE=DATE:20250809
DTEND;VALUE=DATE:20250810
DTSTAMP:20260424T024609
CREATED:20250413T161757Z
LAST-MODIFIED:20250413T161757Z
UID:2052-1754697600-1754783999@klgu.org
SUMMARY:NYALI LADIES OPEN
DESCRIPTION:
URL:https://klgu.org/event/nyali-ladies-open/
CATEGORIES:Golf
END:VEVENT
BEGIN:VEVENT
DTSTART;VALUE=DATE:20250815
DTEND;VALUE=DATE:20250816
DTSTAMP:20260424T024609
CREATED:20250413T161758Z
LAST-MODIFIED:20250413T161758Z
UID:2053-1755216000-1755302399@klgu.org
SUMMARY:MATCH PLAY CHAMPIONSHIP (WAGR)
DESCRIPTION:
URL:https://klgu.org/event/match-play-championship-wagr/
CATEGORIES:Golf
END:VEVENT
BEGIN:VEVENT
DTSTART;VALUE=DATE:20250816
DTEND;VALUE=DATE:20250817
DTSTAMP:20260424T024609
CREATED:20250413T161801Z
LAST-MODIFIED:20250413T161802Z
UID:2054-1755302400-1755388799@klgu.org
SUMMARY:MATCH PLAY CHAMPIONSHIP (WAGR)
DESCRIPTION:
URL:https://klgu.org/event/match-play-championship-wagr-2/
CATEGORIES:Golf
END:VEVENT
BEGIN:VEVENT
DTSTART;VALUE=DATE:20250817
DTEND;VALUE=DATE:20250818
DTSTAMP:20260424T024609
CREATED:20250413T161801Z
LAST-MODIFIED:20250413T161802Z
UID:2055-1755388800-1755475199@klgu.org
SUMMARY:MATCH PLAY CHAMPIONSHIP (WAGR)
DESCRIPTION:
URL:https://klgu.org/event/match-play-championship-wagr-3/
CATEGORIES:Golf
END:VEVENT
BEGIN:VEVENT
DTSTART;VALUE=DATE:20250818
DTEND;VALUE=DATE:20250819
DTSTAMP:20260424T024609
CREATED:20250413T161801Z
LAST-MODIFIED:20250413T161802Z
UID:2056-1755475200-1755561599@klgu.org
SUMMARY:KLGU MEETING
DESCRIPTION:
URL:https://klgu.org/event/klgu-meeting-10/
CATEGORIES:Golf
END:VEVENT
BEGIN:VEVENT
DTSTART;VALUE=DATE:20250824
DTEND;VALUE=DATE:20250825
DTSTAMP:20260424T024609
CREATED:20250413T161801Z
LAST-MODIFIED:20250413T161802Z
UID:2057-1755993600-1756079999@klgu.org
SUMMARY:INTER-CLUB LEAGUE
DESCRIPTION:
URL:https://klgu.org/event/inter-club-league-9/
CATEGORIES:Golf
END:VEVENT
BEGIN:VEVENT
DTSTART;VALUE=DATE:20250831
DTEND;VALUE=DATE:20250901
DTSTAMP:20260424T024609
CREATED:20250413T161801Z
LAST-MODIFIED:20250413T161802Z
UID:2058-1756598400-1756684799@klgu.org
SUMMARY:INTER-CLUB LEAGUE
DESCRIPTION:
URL:https://klgu.org/event/inter-club-league-10/
CATEGORIES:Golf
END:VEVENT
BEGIN:VEVENT
DTSTART;VALUE=DATE:20250906
DTEND;VALUE=DATE:20250907
DTSTAMP:20260424T024609
CREATED:20250413T161806Z
LAST-MODIFIED:20250905T040023Z
UID:2064-1757116800-1757203199@klgu.org
SUMMARY:EILEEN BELCHER TOURNAMENT
DESCRIPTION:The East and Central Africa Challenge Trophy ( EACAACT) 2025 is scheduled to take place from 20th to 25th Oct\, 2025\, in Nairobi\, Kenya. \nDon’t miss the action—book your discounted flights today! 
URL:https://klgu.org/event/eileen-belcher-tournament/
CATEGORIES:Golf
ATTACH;FMTTYPE=image/jpeg:https://klgu.org/wp-content/uploads/2025/04/eileenbelcher2025sept.jpeg
END:VEVENT
BEGIN:VEVENT
DTSTART;VALUE=DATE:20250907
DTEND;VALUE=DATE:20250908
DTSTAMP:20260424T024609
CREATED:20250413T161806Z
LAST-MODIFIED:20250413T161806Z
UID:2065-1757203200-1757289599@klgu.org
SUMMARY:EILEEN BELCHER TOURNAMENT
DESCRIPTION:
URL:https://klgu.org/event/eileen-belcher-tournament-2/
CATEGORIES:Golf
END:VEVENT
BEGIN:VEVENT
DTSTART;VALUE=DATE:20250913
DTEND;VALUE=DATE:20250914
DTSTAMP:20260424T024609
CREATED:20250413T161806Z
LAST-MODIFIED:20250413T161806Z
UID:2066-1757721600-1757807999@klgu.org
SUMMARY:GOLF PARK LADIES OPEN
DESCRIPTION:
URL:https://klgu.org/event/golf-park-ladies-open-2/
CATEGORIES:Golf
END:VEVENT
BEGIN:VEVENT
DTSTART;VALUE=DATE:20250915
DTEND;VALUE=DATE:20250916
DTSTAMP:20260424T024609
CREATED:20250413T161806Z
LAST-MODIFIED:20250413T161806Z
UID:2067-1757894400-1757980799@klgu.org
SUMMARY:KLGU & LC’s MEETING
DESCRIPTION:
URL:https://klgu.org/event/klgu-lcs-meeting-4/
CATEGORIES:Golf
END:VEVENT
BEGIN:VEVENT
DTSTART;VALUE=DATE:20250921
DTEND;VALUE=DATE:20250922
DTSTAMP:20260424T024609
CREATED:20250413T161806Z
LAST-MODIFIED:20250413T161806Z
UID:2068-1758412800-1758499199@klgu.org
SUMMARY:INTER-CLUB LEAGUE
DESCRIPTION:
URL:https://klgu.org/event/inter-club-league-11/
CATEGORIES:Golf
END:VEVENT
BEGIN:VEVENT
DTSTART;VALUE=DATE:20250925
DTEND;VALUE=DATE:20250926
DTSTAMP:20260424T024609
CREATED:20250413T161824Z
LAST-MODIFIED:20250413T161824Z
UID:2069-1758758400-1758844799@klgu.org
SUMMARY:NJORO LADIES OPEN
DESCRIPTION:
URL:https://klgu.org/event/njoro-ladies-open/
CATEGORIES:Golf
END:VEVENT
BEGIN:VEVENT
DTSTART;VALUE=DATE:20250926
DTEND;VALUE=DATE:20250927
DTSTAMP:20260424T024609
CREATED:20250413T161824Z
LAST-MODIFIED:20250413T161824Z
UID:2070-1758844800-1758931199@klgu.org
SUMMARY:NAKURU LADIES OPEN
DESCRIPTION:
URL:https://klgu.org/event/nakuru-ladies-open/
CATEGORIES:Golf
END:VEVENT
BEGIN:VEVENT
DTSTART;VALUE=DATE:20250927
DTEND;VALUE=DATE:20250928
DTSTAMP:20260424T024609
CREATED:20250413T161825Z
LAST-MODIFIED:20250413T161825Z
UID:2071-1758931200-1759017599@klgu.org
SUMMARY:GRVL LADIES OPEN (GOTY)
DESCRIPTION:
URL:https://klgu.org/event/grvl-ladies-open-goty/
CATEGORIES:Golf
END:VEVENT
BEGIN:VEVENT
DTSTART;VALUE=DATE:20250928
DTEND;VALUE=DATE:20250929
DTSTAMP:20260424T024609
CREATED:20250413T161825Z
LAST-MODIFIED:20250413T161825Z
UID:2072-1759017600-1759103999@klgu.org
SUMMARY:NAIVASHA LADIES OPEN
DESCRIPTION:
URL:https://klgu.org/event/naivasha-ladies-open/
CATEGORIES:Golf
END:VEVENT
BEGIN:VEVENT
DTSTART;VALUE=DATE:20251009
DTEND;VALUE=DATE:20251010
DTSTAMP:20260424T024609
CREATED:20250413T161825Z
LAST-MODIFIED:20250413T161825Z
UID:2073-1759968000-1760054399@klgu.org
SUMMARY:NYANZA LADIES OPEN
DESCRIPTION:
URL:https://klgu.org/event/nyanza-ladies-open-2/
CATEGORIES:Golf
END:VEVENT
BEGIN:VEVENT
DTSTART;VALUE=DATE:20251010
DTEND;VALUE=DATE:20251011
DTSTAMP:20260424T024609
CREATED:20250413T161836Z
LAST-MODIFIED:20250413T161836Z
UID:2074-1760054400-1760140799@klgu.org
SUMMARY:KAKAMEGA LADIES OPEN
DESCRIPTION:
URL:https://klgu.org/event/kakamega-ladies-open-2/
CATEGORIES:Golf
END:VEVENT
BEGIN:VEVENT
DTSTART;VALUE=DATE:20251011
DTEND;VALUE=DATE:20251012
DTSTAMP:20260424T024609
CREATED:20250413T161836Z
LAST-MODIFIED:20250413T161836Z
UID:2075-1760140800-1760227199@klgu.org
SUMMARY:KISII LADIES OPEN (GOTY)
DESCRIPTION:
URL:https://klgu.org/event/kisii-ladies-open-goty/
CATEGORIES:Golf
END:VEVENT
BEGIN:VEVENT
DTSTART;VALUE=DATE:20251012
DTEND;VALUE=DATE:20251013
DTSTAMP:20260424T024609
CREATED:20250413T161836Z
LAST-MODIFIED:20250413T161836Z
UID:2076-1760227200-1760313599@klgu.org
SUMMARY:KERICHO LADIES OPEN
DESCRIPTION:
URL:https://klgu.org/event/kericho-ladies-open-2/
CATEGORIES:Golf
END:VEVENT
BEGIN:VEVENT
DTSTART;VALUE=DATE:20251019
DTEND;VALUE=DATE:20251020
DTSTAMP:20260424T024609
CREATED:20250413T161837Z
LAST-MODIFIED:20250413T161837Z
UID:2077-1760832000-1760918399@klgu.org
SUMMARY:INTER-CLUB LEAGUE
DESCRIPTION:
URL:https://klgu.org/event/inter-club-league-12/
CATEGORIES:Golf
END:VEVENT
BEGIN:VEVENT
DTSTART;VALUE=DATE:20251020
DTEND;VALUE=DATE:20251026
DTSTAMP:20260424T024609
CREATED:20250413T161837Z
LAST-MODIFIED:20251012T151635Z
UID:2078-1760918400-1761436799@klgu.org
SUMMARY:EAACAACT Ladies Golf Tournament
DESCRIPTION:Call:\nBetty Mutua +254 720 611239\nklgukenya@gmail.com
URL:https://klgu.org/event/eaacaact/
LOCATION:Great Rift Valley Lodge & Golf Resort\, Kenya
CATEGORIES:Golf
ATTACH;FMTTYPE=image/jpeg:https://klgu.org/wp-content/uploads/2025/04/EACAACT-Main-Event.jpeg
END:VEVENT
BEGIN:VEVENT
DTSTART;VALUE=DATE:20251022
DTEND;VALUE=DATE:20251023
DTSTAMP:20260424T024609
CREATED:20250904T023255Z
LAST-MODIFIED:20250904T023825Z
UID:2258-1761091200-1761177599@klgu.org
SUMMARY:EACAACT Supporters Tournament
DESCRIPTION:Format: Stableford \nEntry fee: Ksh. 2000/-  per round
URL:https://klgu.org/event/eacaact-supporters-tournament/
LOCATION:Great Rift Valley Lodge & Golf Resort\, Kenya
CATEGORIES:Golf
ATTACH;FMTTYPE=image/jpeg:https://klgu.org/wp-content/uploads/2025/09/eacaactsupporters2025october.jpeg
END:VEVENT
BEGIN:VEVENT
DTSTART;VALUE=DATE:20251023
DTEND;VALUE=DATE:20251024
DTSTAMP:20260424T024609
CREATED:20250904T023630Z
LAST-MODIFIED:20251012T150729Z
UID:2261-1761177600-1761263999@klgu.org
SUMMARY:EACAACT Supporters Tournament
DESCRIPTION:Format: Stableford \nEntry fee: Ksh. 2000/-  per round
URL:https://klgu.org/event/eacaact-supporters-tournament-2/
LOCATION:Mount Kipipiri Golf Resort\, Kenya
CATEGORIES:Golf
ATTACH;FMTTYPE=image/jpeg:https://klgu.org/wp-content/uploads/2025/09/EACAACT-Supporters.jpeg
END:VEVENT
BEGIN:VEVENT
DTSTART;VALUE=DATE:20251103
DTEND;VALUE=DATE:20251104
DTSTAMP:20260424T024609
CREATED:20250413T161604Z
LAST-MODIFIED:20250413T161850Z
UID:2008-1762128000-1762214399@klgu.org
SUMMARY:KLGU MEETING
DESCRIPTION:
URL:https://klgu.org/event/klgu-meeting-8/
CATEGORIES:Golf
END:VEVENT
BEGIN:VEVENT
DTSTART;VALUE=DATE:20251109
DTEND;VALUE=DATE:20251110
DTSTAMP:20260424T024609
CREATED:20250413T161604Z
LAST-MODIFIED:20250413T162022Z
UID:2009-1762646400-1762732799@klgu.org
SUMMARY:INTER-CLUB LEAGUE
DESCRIPTION:
URL:https://klgu.org/event/inter-club-league-3/
CATEGORIES:Golf
END:VEVENT
BEGIN:VEVENT
DTSTART;VALUE=DATE:20260110
DTEND;VALUE=DATE:20260111
DTSTAMP:20260424T024609
CREATED:20250413T161604Z
LAST-MODIFIED:20250413T162022Z
UID:2010-1768003200-1768089599@klgu.org
SUMMARY:SIGONA LADIES OPEN (GOTY)
DESCRIPTION:
URL:https://klgu.org/event/sigona-ladies-open-goty-4/
CATEGORIES:Golf
END:VEVENT
END:VCALENDAR