BEGIN:VCALENDAR
VERSION:2.0
PRODID:-//Kenya Ladies Golf Union - ECPv6.6.4.2//NONSGML v1.0//EN
CALSCALE:GREGORIAN
METHOD:PUBLISH
X-WR-CALNAME:Kenya Ladies Golf Union
X-ORIGINAL-URL:https://klgu.org
X-WR-CALDESC:Events for Kenya Ladies Golf Union
REFRESH-INTERVAL;VALUE=DURATION:PT1H
X-Robots-Tag:noindex
X-PUBLISHED-TTL:PT1H
BEGIN:VTIMEZONE
TZID:Africa/Nairobi
BEGIN:STANDARD
TZOFFSETFROM:+0300
TZOFFSETTO:+0300
TZNAME:EAT
DTSTART:20250101T000000
END:STANDARD
END:VTIMEZONE
BEGIN:VEVENT
DTSTART;VALUE=DATE:20250201
DTEND;VALUE=DATE:20250202
DTSTAMP:20260424T111834
CREATED:20250413T161538Z
LAST-MODIFIED:20250413T161538Z
UID:1999-1738368000-1738454399@klgu.org
SUMMARY:KLGU CHAIRMAN’S PRIZE
DESCRIPTION:
URL:https://klgu.org/event/klgu-chairmans-prize-2/
CATEGORIES:Golf
END:VEVENT
BEGIN:VEVENT
DTSTART;VALUE=DATE:20250210
DTEND;VALUE=DATE:20250211
DTSTAMP:20260424T111834
CREATED:20250413T161538Z
LAST-MODIFIED:20250413T161538Z
UID:2000-1739145600-1739231999@klgu.org
SUMMARY:KLGU MEETING
DESCRIPTION:
URL:https://klgu.org/event/klgu-meeting-7/
CATEGORIES:Golf
END:VEVENT
BEGIN:VEVENT
DTSTART;VALUE=DATE:20250211
DTEND;VALUE=DATE:20250212
DTSTAMP:20260424T111834
CREATED:20250413T161538Z
LAST-MODIFIED:20250413T161538Z
UID:2001-1739232000-1739318399@klgu.org
SUMMARY:LADY CAPTAIN’S INDUCTION
DESCRIPTION:
URL:https://klgu.org/event/lady-captains-induction/
CATEGORIES:Golf
END:VEVENT
BEGIN:VEVENT
DTSTART;VALUE=DATE:20250215
DTEND;VALUE=DATE:20250216
DTSTAMP:20260424T111834
CREATED:20250413T161539Z
LAST-MODIFIED:20250413T161539Z
UID:2002-1739577600-1739663999@klgu.org
SUMMARY:SIGONA LADIES OPEN (GOTY)
DESCRIPTION:
URL:https://klgu.org/event/sigona-ladies-open-goty-3/
CATEGORIES:Golf
END:VEVENT
BEGIN:VEVENT
DTSTART;VALUE=DATE:20250216
DTEND;VALUE=DATE:20250217
DTSTAMP:20260424T111834
CREATED:20250413T161548Z
LAST-MODIFIED:20250413T161548Z
UID:2003-1739664000-1739750399@klgu.org
SUMMARY:INTER-CLUB LEAGUE
DESCRIPTION:
URL:https://klgu.org/event/inter-club-league-2/
CATEGORIES:Golf
END:VEVENT
BEGIN:VEVENT
DTSTART;VALUE=DATE:20250220
DTEND;VALUE=DATE:20250221
DTSTAMP:20260424T111834
CREATED:20250413T161549Z
LAST-MODIFIED:20250413T161549Z
UID:2004-1740009600-1740095999@klgu.org
SUMMARY:MAGICAL KENYA OPEN
DESCRIPTION:
URL:https://klgu.org/event/magical-kenya-open-5/
CATEGORIES:Golf
END:VEVENT
BEGIN:VEVENT
DTSTART;VALUE=DATE:20250221
DTEND;VALUE=DATE:20250222
DTSTAMP:20260424T111834
CREATED:20250413T161550Z
LAST-MODIFIED:20250413T161550Z
UID:2005-1740096000-1740182399@klgu.org
SUMMARY:MAGICAL KENYA OPEN
DESCRIPTION:
URL:https://klgu.org/event/magical-kenya-open-6/
CATEGORIES:Golf
END:VEVENT
BEGIN:VEVENT
DTSTART;VALUE=DATE:20250222
DTEND;VALUE=DATE:20250223
DTSTAMP:20260424T111834
CREATED:20250413T161550Z
LAST-MODIFIED:20250413T161550Z
UID:2006-1740182400-1740268799@klgu.org
SUMMARY:MAGICAL KENYA OPEN
DESCRIPTION:
URL:https://klgu.org/event/magical-kenya-open-7/
CATEGORIES:Golf
END:VEVENT
BEGIN:VEVENT
DTSTART;VALUE=DATE:20250223
DTEND;VALUE=DATE:20250224
DTSTAMP:20260424T111834
CREATED:20250413T161550Z
LAST-MODIFIED:20250413T161550Z
UID:2007-1740268800-1740355199@klgu.org
SUMMARY:MAGICAL KENYA OPEN
DESCRIPTION:
URL:https://klgu.org/event/magical-kenya-open-8/
CATEGORIES:Golf
END:VEVENT
BEGIN:VEVENT
DTSTART;VALUE=DATE:20250301
DTEND;VALUE=DATE:20250302
DTSTAMP:20260424T111834
CREATED:20250413T161620Z
LAST-MODIFIED:20250413T161620Z
UID:2013-1740787200-1740873599@klgu.org
SUMMARY:KABETE LADIES OPEN (GOTY)
DESCRIPTION:
URL:https://klgu.org/event/kabete-ladies-open-goty-2/
CATEGORIES:Golf
END:VEVENT
BEGIN:VEVENT
DTSTART;VALUE=DATE:20250307
DTEND;VALUE=DATE:20250308
DTSTAMP:20260424T111834
CREATED:20250413T161621Z
LAST-MODIFIED:20250413T161621Z
UID:2014-1741305600-1741391999@klgu.org
SUMMARY:INTL. WOMENS DAY TOURNAMENT (MGC)
DESCRIPTION:
URL:https://klgu.org/event/intl-womens-day-tournament-mgc/
CATEGORIES:Golf
END:VEVENT
BEGIN:VEVENT
DTSTART;VALUE=DATE:20250316
DTEND;VALUE=DATE:20250317
DTSTAMP:20260424T111834
CREATED:20250413T161621Z
LAST-MODIFIED:20250413T161621Z
UID:2015-1742083200-1742169599@klgu.org
SUMMARY:INTER-CLUB LEAGUE
DESCRIPTION:
URL:https://klgu.org/event/inter-club-league-4/
CATEGORIES:Golf
END:VEVENT
BEGIN:VEVENT
DTSTART;VALUE=DATE:20250321
DTEND;VALUE=DATE:20250322
DTSTAMP:20260424T111834
CREATED:20250413T161621Z
LAST-MODIFIED:20250413T161621Z
UID:2016-1742515200-1742601599@klgu.org
SUMMARY:KITALE LADIES OPEN
DESCRIPTION:
URL:https://klgu.org/event/kitale-ladies-open-2/
CATEGORIES:Golf
END:VEVENT
BEGIN:VEVENT
DTSTART;VALUE=DATE:20250322
DTEND;VALUE=DATE:20250323
DTSTAMP:20260424T111834
CREATED:20250413T161621Z
LAST-MODIFIED:20250413T161621Z
UID:2017-1742601600-1742687999@klgu.org
SUMMARY:NANDI LADIES OPEN (GOTY)
DESCRIPTION:
URL:https://klgu.org/event/nandi-ladies-open-goty/
CATEGORIES:Golf
END:VEVENT
BEGIN:VEVENT
DTSTART;VALUE=DATE:20250323
DTEND;VALUE=DATE:20250324
DTSTAMP:20260424T111834
CREATED:20250413T161628Z
LAST-MODIFIED:20250413T161628Z
UID:2018-1742688000-1742774399@klgu.org
SUMMARY:ELDORET LADIES OPEN
DESCRIPTION:
URL:https://klgu.org/event/eldoret-ladies-open/
CATEGORIES:Golf
END:VEVENT
BEGIN:VEVENT
DTSTART;VALUE=DATE:20250330
DTEND;VALUE=DATE:20250331
DTSTAMP:20260424T111834
CREATED:20250413T161628Z
LAST-MODIFIED:20250413T161628Z
UID:2019-1743292800-1743379199@klgu.org
SUMMARY:INTER-CLUB LEAGUE
DESCRIPTION:
URL:https://klgu.org/event/inter-club-league-5/
CATEGORIES:Golf
END:VEVENT
BEGIN:VEVENT
DTSTART;VALUE=DATE:20250404
DTEND;VALUE=DATE:20250405
DTSTAMP:20260424T111834
CREATED:20250413T161628Z
LAST-MODIFIED:20250413T161628Z
UID:2020-1743724800-1743811199@klgu.org
SUMMARY:KLGU OPEN MEETING (WAGR)
DESCRIPTION:
URL:https://klgu.org/event/klgu-open-meeting-wagr/
CATEGORIES:Golf
END:VEVENT
BEGIN:VEVENT
DTSTART;VALUE=DATE:20250405
DTEND;VALUE=DATE:20250406
DTSTAMP:20260424T111834
CREATED:20250413T161628Z
LAST-MODIFIED:20250413T161628Z
UID:2021-1743811200-1743897599@klgu.org
SUMMARY:KLGU OPEN MEETING (WAGR)
DESCRIPTION:
URL:https://klgu.org/event/klgu-open-meeting-wagr-2/
CATEGORIES:Golf
END:VEVENT
BEGIN:VEVENT
DTSTART;VALUE=DATE:20250406
DTEND;VALUE=DATE:20250407
DTSTAMP:20260424T111834
CREATED:20250413T161628Z
LAST-MODIFIED:20250413T161628Z
UID:2022-1743897600-1743983999@klgu.org
SUMMARY:KLGU OPEN MEETING (WAGR)
DESCRIPTION:
URL:https://klgu.org/event/klgu-open-meeting-wagr-3/
CATEGORIES:Golf
END:VEVENT
BEGIN:VEVENT
DTSTART;VALUE=DATE:20250412
DTEND;VALUE=DATE:20250413
DTSTAMP:20260424T111834
CREATED:20250413T161704Z
LAST-MODIFIED:20250413T161704Z
UID:2024-1744416000-1744502399@klgu.org
SUMMARY:KAREN LADIES OPEN (GOTY)
DESCRIPTION:
URL:https://klgu.org/event/karen-ladies-open-goty-2/
CATEGORIES:Golf
END:VEVENT
BEGIN:VEVENT
DTSTART;VALUE=DATE:20250414
DTEND;VALUE=DATE:20250415
DTSTAMP:20260424T111834
CREATED:20250413T161705Z
LAST-MODIFIED:20250413T161705Z
UID:2025-1744588800-1744675199@klgu.org
SUMMARY:KLGU & LCs MEETING
DESCRIPTION:
URL:https://klgu.org/event/klgu-lcs-meeting-2/
CATEGORIES:Golf
END:VEVENT
BEGIN:VEVENT
DTSTART;VALUE=DATE:20250427
DTEND;VALUE=DATE:20250428
DTSTAMP:20260424T111834
CREATED:20250413T161705Z
LAST-MODIFIED:20250413T161705Z
UID:2026-1745712000-1745798399@klgu.org
SUMMARY:INTER-CLUB LEAGUE
DESCRIPTION:
URL:https://klgu.org/event/inter-club-league-6/
CATEGORIES:Golf
END:VEVENT
BEGIN:VEVENT
DTSTART;VALUE=DATE:20250502
DTEND;VALUE=DATE:20250503
DTSTAMP:20260424T111834
CREATED:20250413T161705Z
LAST-MODIFIED:20250413T161705Z
UID:2027-1746144000-1746230399@klgu.org
SUMMARY:STROKE PLAY CHAMPIONSHIP (WAGR)
DESCRIPTION:
URL:https://klgu.org/event/stroke-play-championship-wagr/
CATEGORIES:Golf
END:VEVENT
BEGIN:VEVENT
DTSTART;VALUE=DATE:20250503
DTEND;VALUE=DATE:20250504
DTSTAMP:20260424T111834
CREATED:20250413T161706Z
LAST-MODIFIED:20250413T161706Z
UID:2028-1746230400-1746316799@klgu.org
SUMMARY:STROKE PLAY CHAMPIONSHIP (WAGR)
DESCRIPTION:
URL:https://klgu.org/event/stroke-play-championship-wagr-2/
CATEGORIES:Golf
END:VEVENT
BEGIN:VEVENT
DTSTART;VALUE=DATE:20250504
DTEND;VALUE=DATE:20250505
DTSTAMP:20260424T111834
CREATED:20250413T161712Z
LAST-MODIFIED:20250413T161712Z
UID:2029-1746316800-1746403199@klgu.org
SUMMARY:STROKE PLAY CHAMPIONSHIP (WAGR)
DESCRIPTION:
URL:https://klgu.org/event/stroke-play-championship-wagr-3/
CATEGORIES:Golf
END:VEVENT
BEGIN:VEVENT
DTSTART;VALUE=DATE:20250505
DTEND;VALUE=DATE:20250506
DTSTAMP:20260424T111834
CREATED:20250413T161712Z
LAST-MODIFIED:20250413T161712Z
UID:2030-1746403200-1746489599@klgu.org
SUMMARY:KLGU MEETING
DESCRIPTION:
URL:https://klgu.org/event/klgu-meeting-9/
CATEGORIES:Golf
END:VEVENT
BEGIN:VEVENT
DTSTART;VALUE=DATE:20250510
DTEND;VALUE=DATE:20250511
DTSTAMP:20260424T111834
CREATED:20250413T161712Z
LAST-MODIFIED:20250413T161712Z
UID:2031-1746835200-1746921599@klgu.org
SUMMARY:LIMURU LADIES OPEN (GOTY)
DESCRIPTION:
URL:https://klgu.org/event/limuru-ladies-open-goty-2/
CATEGORIES:Golf
END:VEVENT
BEGIN:VEVENT
DTSTART;VALUE=DATE:20250517
DTEND;VALUE=DATE:20250518
DTSTAMP:20260424T111834
CREATED:20250413T161712Z
LAST-MODIFIED:20250413T161712Z
UID:2032-1747440000-1747526399@klgu.org
SUMMARY:WINDSOR LADIES OPEN (GOTY)
DESCRIPTION:
URL:https://klgu.org/event/windsor-ladies-open-goty-2/
CATEGORIES:Golf
END:VEVENT
BEGIN:VEVENT
DTSTART;VALUE=DATE:20250518
DTEND;VALUE=DATE:20250519
DTSTAMP:20260424T111834
CREATED:20250413T161712Z
LAST-MODIFIED:20250413T161712Z
UID:2033-1747526400-1747612799@klgu.org
SUMMARY:INTER-CLUB LEAGUE
DESCRIPTION:
URL:https://klgu.org/event/inter-club-league-7/
CATEGORIES:Golf
END:VEVENT
BEGIN:VEVENT
DTSTART;VALUE=DATE:20250523
DTEND;VALUE=DATE:20250524
DTSTAMP:20260424T111834
CREATED:20250413T161724Z
LAST-MODIFIED:20250413T161724Z
UID:2034-1747958400-1748044799@klgu.org
SUMMARY:NYAHURURU LADIES OPEN (GOTY)
DESCRIPTION:
URL:https://klgu.org/event/nyahururu-ladies-open-goty-2/
CATEGORIES:Golf
END:VEVENT
END:VCALENDAR