BEGIN:VCALENDAR
VERSION:2.0
PRODID:-//Kenya Ladies Golf Union - ECPv6.6.4.2//NONSGML v1.0//EN
CALSCALE:GREGORIAN
METHOD:PUBLISH
X-WR-CALNAME:Kenya Ladies Golf Union
X-ORIGINAL-URL:https://klgu.org
X-WR-CALDESC:Events for Kenya Ladies Golf Union
REFRESH-INTERVAL;VALUE=DURATION:PT1H
X-Robots-Tag:noindex
X-PUBLISHED-TTL:PT1H
BEGIN:VTIMEZONE
TZID:UTC
BEGIN:STANDARD
TZOFFSETFROM:+0000
TZOFFSETTO:+0000
TZNAME:UTC
DTSTART:20240101T000000
END:STANDARD
END:VTIMEZONE
BEGIN:VEVENT
DTSTART;TZID=UTC:20241010T090000
DTEND;TZID=UTC:20241010T170000
DTSTAMP:20260424T094826
CREATED:20240709T144409Z
LAST-MODIFIED:20260112T060227Z
UID:1898-1728550800-1728579600@klgu.org
SUMMARY:Kakamega Ladies Open
DESCRIPTION:Kakamega Ladies Open
URL:https://klgu.org/event/kakamega-ladies-open/
CATEGORIES:Golf
END:VEVENT
END:VCALENDAR