BEGIN:VCALENDAR
VERSION:2.0
PRODID:-//Kenya Ladies Golf Union - ECPv6.6.4.2//NONSGML v1.0//EN
CALSCALE:GREGORIAN
METHOD:PUBLISH
X-WR-CALNAME:Kenya Ladies Golf Union
X-ORIGINAL-URL:https://klgu.org
X-WR-CALDESC:Events for Kenya Ladies Golf Union
REFRESH-INTERVAL;VALUE=DURATION:PT1H
X-Robots-Tag:noindex
X-PUBLISHED-TTL:PT1H
BEGIN:VTIMEZONE
TZID:Africa/Nairobi
BEGIN:STANDARD
TZOFFSETFROM:+0300
TZOFFSETTO:+0300
TZNAME:EAT
DTSTART:20250101T000000
END:STANDARD
END:VTIMEZONE
BEGIN:VEVENT
DTSTART;VALUE=DATE:20250607
DTEND;VALUE=DATE:20250608
DTSTAMP:20260423T185454
CREATED:20250413T161725Z
LAST-MODIFIED:20250413T161725Z
UID:2037-1749254400-1749340799@klgu.org
SUMMARY:MUTHAIGA LADIES OPEN
DESCRIPTION:
URL:https://klgu.org/event/muthaiga-ladies-open-2/
CATEGORIES:Golf
END:VEVENT
BEGIN:VEVENT
DTSTART;VALUE=DATE:20250608
DTEND;VALUE=DATE:20250609
DTSTAMP:20260423T185454
CREATED:20250413T161725Z
LAST-MODIFIED:20250413T161725Z
UID:2038-1749340800-1749427199@klgu.org
SUMMARY:MUTHAIGA LADIES OPEN (GOTY)
DESCRIPTION:
URL:https://klgu.org/event/muthaiga-ladies-open-goty-2/
CATEGORIES:Golf
END:VEVENT
BEGIN:VEVENT
DTSTART;VALUE=DATE:20250614
DTEND;VALUE=DATE:20250615
DTSTAMP:20260423T185454
CREATED:20250413T161728Z
LAST-MODIFIED:20250413T161728Z
UID:2039-1749859200-1749945599@klgu.org
SUMMARY:THIKA SPORTS LADIES OPEN (GOTY)
DESCRIPTION:
URL:https://klgu.org/event/thika-sports-ladies-open-goty/
CATEGORIES:Golf
END:VEVENT
BEGIN:VEVENT
DTSTART;VALUE=DATE:20250621
DTEND;VALUE=DATE:20250622
DTSTAMP:20260423T185454
CREATED:20250413T161728Z
LAST-MODIFIED:20250413T161728Z
UID:2040-1750464000-1750550399@klgu.org
SUMMARY:MACHAKOS LADIES OPEN
DESCRIPTION:
URL:https://klgu.org/event/machakos-ladies-open-2/
CATEGORIES:Golf
END:VEVENT
BEGIN:VEVENT
DTSTART;VALUE=DATE:20250623
DTEND;VALUE=DATE:20250624
DTSTAMP:20260423T185454
CREATED:20250413T161728Z
LAST-MODIFIED:20250413T161728Z
UID:2041-1750636800-1750723199@klgu.org
SUMMARY:KLGU & LC’S MEETING
DESCRIPTION:
URL:https://klgu.org/event/klgu-lcs-meeting-3/
CATEGORIES:Golf
END:VEVENT
BEGIN:VEVENT
DTSTART;VALUE=DATE:20250628
DTEND;VALUE=DATE:20250629
DTSTAMP:20260423T185454
CREATED:20250413T161729Z
LAST-MODIFIED:20250413T161729Z
UID:2042-1751068800-1751155199@klgu.org
SUMMARY:RUIRU LADIES OPEN (GOTY)
DESCRIPTION:
URL:https://klgu.org/event/ruiru-ladies-open-goty/
CATEGORIES:Golf
END:VEVENT
END:VCALENDAR