BEGIN:VCALENDAR
VERSION:2.0
PRODID:-//Kenya Ladies Golf Union - ECPv6.6.4.2//NONSGML v1.0//EN
CALSCALE:GREGORIAN
METHOD:PUBLISH
X-WR-CALNAME:Kenya Ladies Golf Union
X-ORIGINAL-URL:https://klgu.org
X-WR-CALDESC:Events for Kenya Ladies Golf Union
REFRESH-INTERVAL;VALUE=DURATION:PT1H
X-Robots-Tag:noindex
X-PUBLISHED-TTL:PT1H
BEGIN:VTIMEZONE
TZID:Africa/Nairobi
BEGIN:STANDARD
TZOFFSETFROM:+0300
TZOFFSETTO:+0300
TZNAME:EAT
DTSTART:20250101T000000
END:STANDARD
END:VTIMEZONE
BEGIN:VEVENT
DTSTART;VALUE=DATE:20250301
DTEND;VALUE=DATE:20250302
DTSTAMP:20260423T223815
CREATED:20250413T161620Z
LAST-MODIFIED:20250413T161620Z
UID:2013-1740787200-1740873599@klgu.org
SUMMARY:KABETE LADIES OPEN (GOTY)
DESCRIPTION:
URL:https://klgu.org/event/kabete-ladies-open-goty-2/
CATEGORIES:Golf
END:VEVENT
BEGIN:VEVENT
DTSTART;VALUE=DATE:20250307
DTEND;VALUE=DATE:20250308
DTSTAMP:20260423T223815
CREATED:20250413T161621Z
LAST-MODIFIED:20250413T161621Z
UID:2014-1741305600-1741391999@klgu.org
SUMMARY:INTL. WOMENS DAY TOURNAMENT (MGC)
DESCRIPTION:
URL:https://klgu.org/event/intl-womens-day-tournament-mgc/
CATEGORIES:Golf
END:VEVENT
BEGIN:VEVENT
DTSTART;VALUE=DATE:20250316
DTEND;VALUE=DATE:20250317
DTSTAMP:20260423T223815
CREATED:20250413T161621Z
LAST-MODIFIED:20250413T161621Z
UID:2015-1742083200-1742169599@klgu.org
SUMMARY:INTER-CLUB LEAGUE
DESCRIPTION:
URL:https://klgu.org/event/inter-club-league-4/
CATEGORIES:Golf
END:VEVENT
BEGIN:VEVENT
DTSTART;VALUE=DATE:20250321
DTEND;VALUE=DATE:20250322
DTSTAMP:20260423T223815
CREATED:20250413T161621Z
LAST-MODIFIED:20250413T161621Z
UID:2016-1742515200-1742601599@klgu.org
SUMMARY:KITALE LADIES OPEN
DESCRIPTION:
URL:https://klgu.org/event/kitale-ladies-open-2/
CATEGORIES:Golf
END:VEVENT
BEGIN:VEVENT
DTSTART;VALUE=DATE:20250322
DTEND;VALUE=DATE:20250323
DTSTAMP:20260423T223815
CREATED:20250413T161621Z
LAST-MODIFIED:20250413T161621Z
UID:2017-1742601600-1742687999@klgu.org
SUMMARY:NANDI LADIES OPEN (GOTY)
DESCRIPTION:
URL:https://klgu.org/event/nandi-ladies-open-goty/
CATEGORIES:Golf
END:VEVENT
BEGIN:VEVENT
DTSTART;VALUE=DATE:20250323
DTEND;VALUE=DATE:20250324
DTSTAMP:20260423T223815
CREATED:20250413T161628Z
LAST-MODIFIED:20250413T161628Z
UID:2018-1742688000-1742774399@klgu.org
SUMMARY:ELDORET LADIES OPEN
DESCRIPTION:
URL:https://klgu.org/event/eldoret-ladies-open/
CATEGORIES:Golf
END:VEVENT
BEGIN:VEVENT
DTSTART;VALUE=DATE:20250330
DTEND;VALUE=DATE:20250331
DTSTAMP:20260423T223815
CREATED:20250413T161628Z
LAST-MODIFIED:20250413T161628Z
UID:2019-1743292800-1743379199@klgu.org
SUMMARY:INTER-CLUB LEAGUE
DESCRIPTION:
URL:https://klgu.org/event/inter-club-league-5/
CATEGORIES:Golf
END:VEVENT
END:VCALENDAR