BEGIN:VCALENDAR
VERSION:2.0
PRODID:-//Kenya Ladies Golf Union - ECPv6.6.4.2//NONSGML v1.0//EN
CALSCALE:GREGORIAN
METHOD:PUBLISH
X-WR-CALNAME:Kenya Ladies Golf Union
X-ORIGINAL-URL:https://klgu.org
X-WR-CALDESC:Events for Kenya Ladies Golf Union
REFRESH-INTERVAL;VALUE=DURATION:PT1H
X-Robots-Tag:noindex
X-PUBLISHED-TTL:PT1H
BEGIN:VTIMEZONE
TZID:Africa/Nairobi
BEGIN:STANDARD
TZOFFSETFROM:+0300
TZOFFSETTO:+0300
TZNAME:EAT
DTSTART:20250101T000000
END:STANDARD
END:VTIMEZONE
BEGIN:VEVENT
DTSTART;VALUE=DATE:20250106
DTEND;VALUE=DATE:20250107
DTSTAMP:20260424T024015
CREATED:20250413T161535Z
LAST-MODIFIED:20250413T161535Z
UID:1993-1736121600-1736207999@klgu.org
SUMMARY:KLGU MEETING
DESCRIPTION:
URL:https://klgu.org/event/klgu-meeting-6/
CATEGORIES:Golf
END:VEVENT
BEGIN:VEVENT
DTSTART;VALUE=DATE:20250115
DTEND;VALUE=DATE:20250116
DTSTAMP:20260424T024015
CREATED:20250413T161535Z
LAST-MODIFIED:20250413T161535Z
UID:1994-1736899200-1736985599@klgu.org
SUMMARY:RULES SCHOOL - LEVEL 2
DESCRIPTION:
URL:https://klgu.org/event/rules-school-level-2/
CATEGORIES:Golf
END:VEVENT
BEGIN:VEVENT
DTSTART;VALUE=DATE:20250116
DTEND;VALUE=DATE:20250117
DTSTAMP:20260424T024015
CREATED:20250413T161535Z
LAST-MODIFIED:20250413T161535Z
UID:1995-1736985600-1737071999@klgu.org
SUMMARY:RULES SCHOOL - LEVEL 2
DESCRIPTION:
URL:https://klgu.org/event/rules-school-level-2-2/
CATEGORIES:Golf
END:VEVENT
BEGIN:VEVENT
DTSTART;VALUE=DATE:20250117
DTEND;VALUE=DATE:20250118
DTSTAMP:20260424T024015
CREATED:20250413T161535Z
LAST-MODIFIED:20250413T161535Z
UID:1996-1737072000-1737158399@klgu.org
SUMMARY:RULES SCHOOL - LEVEL 2
DESCRIPTION:
URL:https://klgu.org/event/rules-school-level-2-3/
CATEGORIES:Golf
END:VEVENT
BEGIN:VEVENT
DTSTART;VALUE=DATE:20250126
DTEND;VALUE=DATE:20250127
DTSTAMP:20260424T024015
CREATED:20250413T161535Z
LAST-MODIFIED:20250413T161535Z
UID:1997-1737849600-1737935999@klgu.org
SUMMARY:INTER-CLUB LEAGUE
DESCRIPTION:
URL:https://klgu.org/event/inter-club-league/
CATEGORIES:Golf
END:VEVENT
BEGIN:VEVENT
DTSTART;VALUE=DATE:20250131
DTEND;VALUE=DATE:20250201
DTSTAMP:20260424T024015
CREATED:20250413T161538Z
LAST-MODIFIED:20250413T161538Z
UID:1998-1738281600-1738367999@klgu.org
SUMMARY:KLGU AGM
DESCRIPTION:
URL:https://klgu.org/event/klgu-agm-3/
CATEGORIES:Golf
END:VEVENT
END:VCALENDAR