BEGIN:VCALENDAR
VERSION:2.0
PRODID:-//Kenya Ladies Golf Union - ECPv6.6.4.2//NONSGML v1.0//EN
CALSCALE:GREGORIAN
METHOD:PUBLISH
X-WR-CALNAME:Kenya Ladies Golf Union
X-ORIGINAL-URL:https://klgu.org
X-WR-CALDESC:Events for Kenya Ladies Golf Union
REFRESH-INTERVAL;VALUE=DURATION:PT1H
X-Robots-Tag:noindex
X-PUBLISHED-TTL:PT1H
BEGIN:VTIMEZONE
TZID:UTC
BEGIN:STANDARD
TZOFFSETFROM:+0000
TZOFFSETTO:+0000
TZNAME:UTC
DTSTART:20240101T000000
END:STANDARD
END:VTIMEZONE
BEGIN:VEVENT
DTSTART;TZID=UTC:20241104T090000
DTEND;TZID=UTC:20241104T170000
DTSTAMP:20260424T071912
CREATED:20240709T144414Z
LAST-MODIFIED:20260112T060244Z
UID:1902-1730710800-1730739600@klgu.org
SUMMARY:KLGU Meeting
DESCRIPTION:KLGU Meeting
URL:https://klgu.org/event/klgu-meeting-4/
CATEGORIES:Golf
END:VEVENT
BEGIN:VEVENT
DTSTART;TZID=UTC:20241125T090000
DTEND;TZID=UTC:20241125T170000
DTSTAMP:20260424T071912
CREATED:20240709T144414Z
LAST-MODIFIED:20260112T060250Z
UID:1903-1732525200-1732554000@klgu.org
SUMMARY:AACT - MOROCCO
DESCRIPTION:AACT – MOROCCO
URL:https://klgu.org/event/aact-morocco/
CATEGORIES:Golf
END:VEVENT
BEGIN:VEVENT
DTSTART;TZID=UTC:20241126T090000
DTEND;TZID=UTC:20241126T170000
DTSTAMP:20260424T071912
CREATED:20240709T144414Z
LAST-MODIFIED:20260112T060254Z
UID:1904-1732611600-1732640400@klgu.org
SUMMARY:AACT - MOROCCO
DESCRIPTION:AACT – MOROCCO
URL:https://klgu.org/event/aact-morocco-2/
CATEGORIES:Golf
END:VEVENT
BEGIN:VEVENT
DTSTART;TZID=UTC:20241127T090000
DTEND;TZID=UTC:20241127T170000
DTSTAMP:20260424T071912
CREATED:20240709T144414Z
LAST-MODIFIED:20260112T060257Z
UID:1905-1732698000-1732726800@klgu.org
SUMMARY:AACT - MOROCCO
DESCRIPTION:AACT – MOROCCO
URL:https://klgu.org/event/aact-morocco-3/
CATEGORIES:Golf
END:VEVENT
BEGIN:VEVENT
DTSTART;TZID=UTC:20241128T090000
DTEND;TZID=UTC:20241128T170000
DTSTAMP:20260424T071912
CREATED:20240709T144414Z
LAST-MODIFIED:20260112T060300Z
UID:1906-1732784400-1732813200@klgu.org
SUMMARY:AACT - MOROCCO
DESCRIPTION:AACT – MOROCCO
URL:https://klgu.org/event/aact-morocco-4/
CATEGORIES:Golf
END:VEVENT
BEGIN:VEVENT
DTSTART;TZID=UTC:20241129T090000
DTEND;TZID=UTC:20241129T170000
DTSTAMP:20260424T071912
CREATED:20240709T144426Z
LAST-MODIFIED:20260112T060304Z
UID:1907-1732870800-1732899600@klgu.org
SUMMARY:AACT - MOROCCO
DESCRIPTION:AACT – MOROCCO
URL:https://klgu.org/event/aact-morocco-5/
CATEGORIES:Golf
END:VEVENT
BEGIN:VEVENT
DTSTART;TZID=UTC:20241130T090000
DTEND;TZID=UTC:20241130T170000
DTSTAMP:20260424T071912
CREATED:20240709T144426Z
LAST-MODIFIED:20260112T060307Z
UID:1908-1732957200-1732986000@klgu.org
SUMMARY:AACT - MOROCCO
DESCRIPTION:AACT – MOROCCO
URL:https://klgu.org/event/aact-morocco-6/
CATEGORIES:Golf
END:VEVENT
END:VCALENDAR